BEGIN:VCALENDAR
VERSION:2.0
PRODID:-//ChamberMaster//Event Calendar 2.0//EN
METHOD:PUBLISH
X-PUBLISHED-TTL:P3D
REFRESH-INTERVAL:P3D
CALSCALE:GREGORIAN
BEGIN:VEVENT
DTSTART:20211201T220000Z
DTEND:20211201T230000Z
X-MICROSOFT-CDO-ALLDAYEVENT:FALSE
SUMMARY:Grand Opening/ Ribbon Cutting for PMI Destin
DESCRIPTION:Please join us for the Grand Opening and Ribbon Cutting of PMI Destin! Emerald Coast Catering & Sweet Henrietta's Bakery will be catering.  We look forward to seeing you there!
X-ALT-DESC;FMTTYPE=text/html:Please join us for the Grand Opening and Ribbon Cutting of PMI Destin!&nbsp\;Emerald Coast Catering &amp\; Sweet Henrietta&rsquo\;s Bakery will be catering.&nbsp\; We look forward to seeing you there!<br />\n&nbsp\;
LOCATION:Walton Area Chamber of Commerce 61 S Centre Trail Santa Rosa Beach\, FL 32459
UID:e.885.32630
SEQUENCE:3
DTSTAMP:20260423T080753Z
URL:https://business.waltonareachamber.com/events/details/grand-opening-ribbon-cutting-for-pmi-destin-32630
END:VEVENT

END:VCALENDAR
