BEGIN:VCALENDAR
VERSION:2.0
PRODID:-//ChamberMaster//Event Calendar 2.0//EN
METHOD:PUBLISH
X-PUBLISHED-TTL:P3D
REFRESH-INTERVAL:P3D
CALSCALE:GREGORIAN
BEGIN:VEVENT
DTSTART:20210513T220000Z
DTEND:20210513T230000Z
X-MICROSOFT-CDO-ALLDAYEVENT:FALSE
SUMMARY:Grand Re-Opening & Ribbon Cutting for Big Mama's Hula Girl Gallery
DESCRIPTION:Join us for the grand re-opening of Big Mama's Hula Girl Gallery! The event kicks off at 5:00 p.m. with a ribbon cutting ceremony at 5:15 p.m.\n\n\n\nCome enjoy some samples of their Gullah gourmet items as well as their Camp Craft cocktails and wine! Not to mention\, many artists will be on site to exhibit their art!\n\n\n\nWe can't wait to see you there!
X-ALT-DESC;FMTTYPE=text/html:<span style="font-size:14px\;"><span style="font-family:arial\;">Join us for the grand re-opening of Big</span></span><span style="font-size:14px\;"><span style="font-family:arial\;">&nbsp\;Mama&#39\;s Hula Girl Gallery! The event kicks off at 5:00 p.m. with a ribbon cutting ceremony at 5:15 p.m.<br />\n<br />\nCome enjoy some samples of their Gullah gourmet items as well as their Camp Craft cocktails and wine! Not to mention\, many artists will be on site to exhibit their art!</span></span><br />\n<br />\nWe can&#39\;t wait to see you there!
LOCATION:Big Mama's Hula Girl Gallery 2048 W County Highway 30A Suite R2-107 Santa Rosa Beach\, FL 32459
UID:e.885.30079
SEQUENCE:3
DTSTAMP:20260422T143346Z
URL:https://business.waltonareachamber.com/events/details/grand-re-opening-ribbon-cutting-for-big-mama-s-hula-girl-gallery-30079
END:VEVENT

END:VCALENDAR
