BEGIN:VCALENDAR
VERSION:2.0
PRODID:-//ChamberMaster//Event Calendar 2.0//EN
METHOD:PUBLISH
X-PUBLISHED-TTL:P3D
REFRESH-INTERVAL:P3D
CALSCALE:GREGORIAN
BEGIN:VEVENT
DTSTART:20210701T150000Z
DTEND:20210701T160000Z
X-MICROSOFT-CDO-ALLDAYEVENT:FALSE
SUMMARY:Groundbreaking for Owl's Head
DESCRIPTION:The community is invited to the official groundbreaking ceremony of Owl's Head Farms on Thursday\, July 1 at 10 a.m. to help welcome the new development to Walton County. Guests will meet at the sales center\, located at 11285 US Hwy. 331\, to enjoy live music by The Luke Langford Band\, lunch and refreshments by Back Beach Barbecue\, special gifts\, and a commemorative flag raising ceremony with the national anthem by Sarah Anne Davidson. To RSVP for the event\, please email Lexi Allen at lexi@proffittpr.com. To learn more about Owl's Head Farms\, visit https://www.owlsheadfla.com.
X-ALT-DESC;FMTTYPE=text/html:<div class="gz-news-data order-sm-1" itemprop="about" style="box-sizing: border-box\; order: 1\; outline: 0px\; -webkit-box-flex: 1\; flex: 1 1 67%\; padding-right: 25px\; color: rgb(68\, 68\, 68)\; font-family: Montserrat\, sans-serif\; font-size: 16px\;">\n<p style="box-sizing: border-box\; margin: 0px 0px 1rem\; outline: 0px\; color: rgb(0\, 0\, 0)\; font-family: &quot\;Times New Roman&quot\;\; font-size: medium\;">&nbsp\;</p>\n</div>\n\n<div class="card gz-news-card order-sm-2" style="box-sizing: border-box\; order: 2\; position: relative\; display: flex\; flex-direction: column\; min-width: 0px\; overflow-wrap: break-word\; background-clip: border-box\; border: 1px solid rgba(0\, 0\, 0\, 0.125)\; border-radius: 5px\; -webkit-box-flex: 0\; flex: 0 1 33%\; align-self: flex-start\; color: rgb(68\, 68\, 68)\; font-family: Montserrat\, sans-serif\; font-size: 16px\;">\n<div class="card-header" style="box-sizing: border-box\; padding: 0.75rem 1.25rem\; background-color: transparent\; margin-bottom: 0px\; border: 0px\; display: flex\; height: auto\; text-align: center\; -webkit-box-align: stretch\; align-items: stretch\; -webkit-box-pack: center\; justify-content: center\; flex-direction: column\; border-radius: calc(4px) calc(4px) 0px 0px\;">\n<div class="gz-news-data order-sm-1" itemprop="about" style="box-sizing: border-box\; order: 1\; outline: 0px\; -webkit-box-flex: 1\; flex: 1 1 67%\; padding-right: 25px\; color: rgb(68\, 68\, 68)\; font-family: Montserrat\, sans-serif\; font-size: 16px\;">\n<p style="box-sizing: border-box\; margin: 0px 0px 1rem\; outline: 0px\; color: rgb(0\, 0\, 0)\; font-family: &quot\;Times New Roman&quot\;\; font-size: medium\;"><span style="box-sizing: border-box\; outline: 0px\; font-size: 14px\;"><span style="box-sizing: border-box\; outline: 0px\; font-family: arial\;">The community is invited to the official groundbreaking ceremony of Owl&rsquo\;s Head Farms on Thursday\, July 1 at 10 a.m. to help welcome the new development to Walton County. Guests will meet at the sales center\, located at 11285 US Hwy. 331\, to enjoy live music by The Luke Langford Band\, lunch and refreshments by Back Beach Barbecue\, special gifts\, and a commemorative flag raising ceremony with the national anthem by Sarah Anne Davidson. To RSVP for the event\, please email Lexi Allen at lexi@proffittpr.com. To learn more about Owl&rsquo\;s Head Farms\, visit https://www.owlsheadfla.com.</span></span></p>\n\n<p style="box-sizing: border-box\; margin: 0px 0px 1rem\;">&nbsp\;</p>\n</div>\n\n<div class="card gz-news-card order-sm-2" style="box-sizing: border-box\; order: 2\; position: relative\; display: flex\; flex-direction: column\; min-width: 0px\; overflow-wrap: break-word\; background-clip: border-box\; border: 1px solid rgba(0\, 0\, 0\, 0.125)\; border-radius: 5px\; -webkit-box-flex: 0\; flex: 0 1 33%\; align-self: flex-start\; color: rgb(68\, 68\, 68)\; font-family: Montserrat\, sans-serif\; font-size: 16px\;">\n<div class="card-header" style="box-sizing: border-box\; padding: 0.75rem 1.25rem\; background-color: transparent\; margin-bottom: 0px\; border: 0px\; display: flex\; height: auto\; text-align: center\; -webkit-box-align: stretch\; align-items: stretch\; -webkit-box-pack: center\; justify-content: center\; flex-direction: column\; border-radius: calc(4px) calc(4px) 0px 0px\;">&nbsp\;</div>\n</div>\n</div>\n</div>\n
LOCATION:11285 US Hwy. 331 Freeport\, FL
UID:e.885.32373
SEQUENCE:3
DTSTAMP:20260422T214610Z
URL:https://business.waltonareachamber.com/events/details/groundbreaking-for-owl-s-head-32373
END:VEVENT

END:VCALENDAR
