BEGIN:VCALENDAR
VERSION:2.0
PRODID:-//ChamberMaster//Event Calendar 2.0//EN
METHOD:PUBLISH
X-PUBLISHED-TTL:P3D
REFRESH-INTERVAL:P3D
CALSCALE:GREGORIAN
BEGIN:VEVENT
DTSTART:20260508T140000Z
DTEND:20260508T150000Z
X-MICROSOFT-CDO-ALLDAYEVENT:FALSE
SUMMARY:Habitat for Humanity of Walton County | Vann Avenue Groundbreaking
DESCRIPTION:Please join Habitat for Humanity of Walton County in Defuniak Springs as we break ground for our newest Habitat street and homes.\n\nVann Ave Ground Breaking Ceremony\n\nMay 8\, 2026 at 9 a.m. \n\nVann Ave\, Defuniak Springs\, FL 32433
X-ALT-DESC;FMTTYPE=text/html:<p style="box-sizing: inherit\; color: rgb(94\, 104\, 110)\; font-family: Montserrat\; font-size: 16px\;">Please join Habitat for Humanity of Walton County in Defuniak Springs as we break ground for our newest Habitat street and homes.</p>\n\n<p style="box-sizing: inherit\; color: rgb(94\, 104\, 110)\; font-family: Montserrat\; font-size: 16px\; text-align: center\;"><span style="box-sizing: inherit\; font-weight: bolder\;">Vann Ave Ground Breaking Ceremony</span></p>\n\n<p style="box-sizing: inherit\; color: rgb(94\, 104\, 110)\; font-family: Montserrat\; font-size: 16px\; text-align: center\;"><span style="box-sizing: inherit\; font-weight: bolder\;">May 8\, 2026 at 9 a.m.&nbsp\;</span></p>\n\n<p style="box-sizing: inherit\; color: rgb(94\, 104\, 110)\; font-family: Montserrat\; font-size: 16px\; text-align: center\;"><span style="box-sizing: inherit\; font-weight: bolder\;">Vann Ave\, Defuniak Springs\, FL 32433</span></p>\n
LOCATION:
UID:e.885.56734
SEQUENCE:3
DTSTAMP:20260419T120420Z
URL:https://business.waltonareachamber.com/events/details/habitat-for-humanity-of-walton-county-vann-avenue-groundbreaking-56734
END:VEVENT

END:VCALENDAR
