BEGIN:VCALENDAR
VERSION:2.0
PRODID:-//ChamberMaster//Event Calendar 2.0//EN
METHOD:PUBLISH
X-PUBLISHED-TTL:P3D
REFRESH-INTERVAL:P3D
CALSCALE:GREGORIAN
BEGIN:VEVENT
DTSTART;VALUE=DATE:20211114
DTEND;VALUE=DATE:20211115
TRANSP:TRANSPARENT
X-MICROSOFT-CDO-ALLDAYEVENT:TRUE
SUMMARY:Half Shells On The Harbor
DESCRIPTION:HarborWalk Village has announced Half Shells on the Harbor!\n\nThis Tide to Table event features fresh oyster tastings as local chefs come together to showcase their spin on this coastal classic.\n\nFrom Raw to Rockefeller\, enjoy a variety of preparations and flavors while sipping on spirits\, craft beers\, and wines. Don't miss this Shuckin' Good Time on the Destin Harbor!
X-ALT-DESC;FMTTYPE=text/html:<span style="font-size:14px\;"><span style="font-family:arial\;"><strong>HarborWalk Village has announced Half Shells on the Harbor!</strong><br />\nThis Tide to Table event features fresh oyster tastings as local chefs come together to showcase their spin on this coastal classic.<br />\n<span style="color:black\;">From Raw to Rockefeller\, enjoy a variety of preparations and flavors while sipping on spirits\, craft beers\, and wines. Don&rsquo\;t miss this Shuckin&rsquo\; Good Time on the Destin Harbor!</span></span></span><br />\n<br />\n&nbsp\;
LOCATION:HarborWalk Village 34 Harbor Blvd Destin\, FL 3254
UID:e.885.32413
SEQUENCE:3
DTSTAMP:20260423T043642Z
URL:https://business.waltonareachamber.com/events/details/half-shells-on-the-harbor-32413
END:VEVENT

END:VCALENDAR
