BEGIN:VCALENDAR
VERSION:2.0
PRODID:-//ChamberMaster//Event Calendar 2.0//EN
METHOD:PUBLISH
X-PUBLISHED-TTL:P3D
REFRESH-INTERVAL:P3D
CALSCALE:GREGORIAN
BEGIN:VEVENT
DTSTART:20240725T213000Z
DTEND:20240725T220000Z
X-MICROSOFT-CDO-ALLDAYEVENT:FALSE
SUMMARY:Halo Salon Ribbon Cutting
DESCRIPTION:Join us for the grand opening and ribbon-cutting ceremony of Halo Salon and Blowout Bar! Owned by Tracy Leddon\, this stylish new salon is opening its doors on April 25\, 2024\, at 4:00 PM\, with the ribbon cutting scheduled for 4:30 PM. Located at 26 Origins Main Street\, Suite 102\, Inlet Beach\, FL 32461\, the event promises an elegant afternoon with champagne to toast the occasion.\n\n\n\nCome along to see what Halo Salon has to offer and join us in welcoming Tracy and her team to the neighborhood.
X-ALT-DESC;FMTTYPE=text/html:Join us for the grand opening and ribbon-cutting ceremony of Halo Salon and Blowout Bar! Owned by Tracy Leddon\, this stylish new salon is opening its doors on April 25\, 2024\, at 4:00 PM\, with the ribbon cutting scheduled for 4:30 PM. Located at 26 Origins Main Street\, Suite 102\, Inlet Beach\, FL 32461\, the event promises an elegant afternoon with champagne to toast the occasion.<br />\n<br />\nCome along to see what Halo Salon has to offer and join us in welcoming Tracy and her team to the neighborhood.
LOCATION:26 Origins Main Street\, Suite 102\, Inlet Beach\, FL 32461
UID:e.885.41608
SEQUENCE:3
DTSTAMP:20260425T181229Z
URL:https://business.waltonareachamber.com/events/details/halo-salon-ribbon-cutting-41608
END:VEVENT

END:VCALENDAR
