BEGIN:VCALENDAR
VERSION:2.0
PRODID:-//ChamberMaster//Event Calendar 2.0//EN
METHOD:PUBLISH
X-PUBLISHED-TTL:P3D
REFRESH-INTERVAL:P3D
CALSCALE:GREGORIAN
BEGIN:VEVENT
DTSTART:20210726T210000Z
DTEND:20210726T230000Z
X-MICROSOFT-CDO-ALLDAYEVENT:FALSE
SUMMARY:Happy Hour at Farm and Fire Southern Pizzeria
DESCRIPTION:Happy Hour(s) - 4-6PM ONLY\n\n \n\n4-6 PM\n\n$7 select spirits\n\n$6 glass house wine\n\n$1 off draft beer\n\n \n\n\n\nMartini Mondays\n\nChoose from a list of featured martinis for just $8 all night.\n\n \n\nOld Fashioned Thursdays\n\nChoose form a curated menu of Old Fashioneds for just $10\n\n \n\nMore info and now offering reservations: farmandfirepizza.com
X-ALT-DESC;FMTTYPE=text/html:<div style="margin: 0px\; padding: 0px\; border: 0px\; font-variant-numeric: inherit\; font-variant-east-asian: inherit\; font-stretch: inherit\; font-size: 15px\; line-height: inherit\; font-family: &quot\;Segoe UI&quot\;\, &quot\;Segoe UI Web (West European)&quot\;\, &quot\;Segoe UI&quot\;\, -apple-system\, BlinkMacSystemFont\, Roboto\, &quot\;Helvetica Neue&quot\;\, sans-serif\; vertical-align: baseline\; color: rgb(32\, 31\, 30)\;">\n<div style="margin: 0px\; padding: 0px\; border: 0px\; font: inherit\; vertical-align: baseline\; color: inherit\;">\n<div style="margin: 0px\; padding: 0px\; border: 0px\; font: inherit\; vertical-align: baseline\; color: inherit\;">\n<div style="margin: 0px\; padding: 0px\; border: 0px\; font: inherit\; vertical-align: baseline\; color: inherit\;">Happy Hour(s) - 4-6PM ONLY</div>\n\n<div style="margin: 0px\; padding: 0px\; border: 0px\; font: inherit\; vertical-align: baseline\; color: inherit\;">&nbsp\;</div>\n\n<div style="margin: 0px\; padding: 0px\; border: 0px\; font: inherit\; vertical-align: baseline\; color: inherit\;"><span style="font-size:14px\;"><span style="font-family:arial\;">4-6 PM</span></span></div>\n\n<div style="margin: 0px\; padding: 0px\; border: 0px\; font: inherit\; vertical-align: baseline\; color: inherit\;"><span style="font-size:14px\;"><span style="font-family:arial\;">$7 select spirits</span></span></div>\n\n<div style="margin: 0px\; padding: 0px\; border: 0px\; font: inherit\; vertical-align: baseline\; color: inherit\;"><span style="font-size:14px\;"><span style="font-family:arial\;">$6 glass house wine</span></span></div>\n\n<div style="margin: 0px\; padding: 0px\; border: 0px\; font: inherit\; vertical-align: baseline\; color: inherit\;"><span style="font-size:14px\;"><span style="font-family:arial\;">$1 off draft beer</span></span></div>\n\n<div style="margin: 0px\; padding: 0px\; border: 0px\; font: inherit\; vertical-align: baseline\; color: inherit\;">&nbsp\;</div>\n</div>\n\n<div style="margin: 0px\; padding: 0px\; border: 0px\; font: inherit\; vertical-align: baseline\; color: inherit\;">\n<div style="margin: 0px\; padding: 0px\; border: 0px\; font: inherit\; vertical-align: baseline\; color: inherit\;"><span style="font-size:14px\;"><span style="font-family:arial\;"><i>Martini Mondays</i></span></span></div>\n\n<div style="margin: 0px\; padding: 0px\; border: 0px\; font: inherit\; vertical-align: baseline\; color: inherit\;"><span style="font-size:14px\;"><span style="font-family:arial\;">Choose from a list of featured martinis for just $8 all night.</span></span></div>\n\n<div style="margin: 0px\; padding: 0px\; border: 0px\; font: inherit\; vertical-align: baseline\; color: inherit\;">&nbsp\;</div>\n\n<div style="margin: 0px\; padding: 0px\; border: 0px\; font: inherit\; vertical-align: baseline\; color: inherit\;"><span style="font-size:14px\;"><span style="font-family:arial\;"><i>Old Fashioned Thursdays</i><br />\nChoose form a curated menu of Old Fashioneds for just $10</span></span></div>\n\n<div style="margin: 0px\; padding: 0px\; border: 0px\; font: inherit\; vertical-align: baseline\; color: inherit\;">&nbsp\;</div>\n\n<div style="margin: 0px\; padding: 0px\; border: 0px\; font: inherit\; vertical-align: baseline\; color: inherit\;"><span style="font-size:14px\;"><span style="font-family:arial\;">More info and now offering reservations:&nbsp\;<a data-auth="NotApplicable" data-linkindex="3" href="http://farmandfirepizza.com/" rel="noopener noreferrer" style="margin: 0px\; padding: 0px\; border: 0px\; font: inherit\; vertical-align: baseline\;" target="_blank">farmandfirepizza.com</a></span></span></div>\n\n<div style="margin: 0px\; padding: 0px\; border: 0px\; font: inherit\; vertical-align: baseline\; color: inherit\;">&nbsp\;</div>\n</div>\n</div>\n</div>\n
LOCATION:24200 HWY 331 South Santa Rosa Beach\, FL 32459
UID:e.885.30981
SEQUENCE:3
DTSTAMP:20260422T215203Z
URL:https://business.waltonareachamber.com/events/details/happy-hour-at-farm-and-fire-southern-pizzeria-07-26-2021-30981
END:VEVENT

END:VCALENDAR
