BEGIN:VCALENDAR
VERSION:2.0
PRODID:-//ChamberMaster//Event Calendar 2.0//EN
METHOD:PUBLISH
X-PUBLISHED-TTL:P3D
REFRESH-INTERVAL:P3D
CALSCALE:GREGORIAN
BEGIN:VEVENT
DTSTART:20240803T220000Z
DTEND:20240804T000000Z
X-MICROSOFT-CDO-ALLDAYEVENT:FALSE
SUMMARY:Happy Hour at Marina Cafe
DESCRIPTION:Daily Happy Hour 5pm - 7pm in the Lounge at Marina Cafe. 1/2 priced martinis\, cocktails\, beers\, wine by the glass and more!
X-ALT-DESC;FMTTYPE=text/html:Daily Happy Hour 5pm - 7pm in the Lounge at Marina Cafe. 1/2 priced martinis\, cocktails\, beers\, wine by the glass and more!
LOCATION:Marina Cafe 404 Harbor Blvd Destin FL 32541
UID:e.885.45021
SEQUENCE:3
DTSTAMP:20260425T170131Z
URL:https://business.waltonareachamber.com/events/details/happy-hour-at-marina-cafe-08-03-2024-45021
END:VEVENT

END:VCALENDAR
