BEGIN:VCALENDAR
VERSION:2.0
PRODID:-//ChamberMaster//Event Calendar 2.0//EN
METHOD:PUBLISH
X-PUBLISHED-TTL:P3D
REFRESH-INTERVAL:P3D
CALSCALE:GREGORIAN
BEGIN:VEVENT
DTSTART:20260120T170000Z
DTEND:20260120T173000Z
X-MICROSOFT-CDO-ALLDAYEVENT:FALSE
SUMMARY:HCA Florida DeFuniak Springs Emergency Grand Opening & Ribbon Cutting
DESCRIPTION:Join us as we celebrate the grand opening and ribbon cutting of HCA Florida DeFuniak Springs Emergency. This milestone event will include a formal ribbon cutting\, tours of the new facility\, and light refreshments as we welcome this new emergency care location to the DeFuniak Springs community.\n\nDate: January 20\, 2026\n\nEvent Time: 11:00 AM\n\nRibbon Cutting: 11:15 AM\n\nLocation: 160 Twin Springs Way\, DeFuniak Springs\, FL 32435
X-ALT-DESC;FMTTYPE=text/html:<p data-end="335" data-start="37">Join us as we celebrate the grand opening and ribbon cutting of <strong data-end="143" data-start="101">HCA Florida DeFuniak Springs Emergency</strong>. This milestone event will include a formal ribbon cutting\, tours of the new facility\, and light refreshments as we welcome this new emergency care location to the DeFuniak Springs community.</p>\n\n<p data-end="488" data-start="337"><strong data-end="346" data-start="337">Date:</strong> January 20\, 2026<br data-end="366" data-start="363" />\n<strong data-end="381" data-start="366">Event Time:</strong> 11:00 AM<br data-end="393" data-is-only-node="" data-start="390" />\n<strong data-end="412" data-start="393">Ribbon Cutting:</strong> 11:15 AM<br data-end="424" data-start="421" />\n<strong data-end="437" data-start="424">Location:</strong> 160 Twin Springs Way\, DeFuniak Springs\, FL 32435</p>\n
LOCATION:160 Twin Springs Way\, DeFuniak Springs\, FL 32435
UID:e.885.56439
SEQUENCE:3
DTSTAMP:20260422T123155Z
URL:https://business.waltonareachamber.com/events/details/hca-florida-defuniak-springs-emergency-grand-opening-ribbon-cutting-56439
END:VEVENT

END:VCALENDAR
