BEGIN:VCALENDAR
VERSION:2.0
PRODID:-//ChamberMaster//Event Calendar 2.0//EN
METHOD:PUBLISH
X-PUBLISHED-TTL:P3D
REFRESH-INTERVAL:P3D
CALSCALE:GREGORIAN
BEGIN:VEVENT
DTSTART:20220830T150000Z
DTEND:20220830T153000Z
X-MICROSOFT-CDO-ALLDAYEVENT:FALSE
SUMMARY:HCA Florida Fort Walton-Destin Hospital Ribbon Cutting
DESCRIPTION:Come join us for the Ribbon Cutting and Tour for HCA Florida Fort Walton-Destin Hospital West Tower and renovated cafe!\n\n\n\nPlease follow the signs to the hospital's parking garage and enter the facility through the main entrance. Someone will greet you in the lobby.
X-ALT-DESC;FMTTYPE=text/html:Come join us for the Ribbon Cutting and Tour for HCA Florida Fort Walton-Destin Hospital West Tower and renovated cafe!<br />\n<br />\nPlease follow the signs to the hospital&rsquo\;s parking garage and enter the facility through the main entrance. Someone will greet you in the lobby.
LOCATION:1000 Mar Walt Dr\, Fort Walton Beach\, FL 32547
UID:e.885.34012
SEQUENCE:3
DTSTAMP:20260423T195853Z
URL:https://business.waltonareachamber.com/events/details/hca-florida-fort-walton-destin-hospital-ribbon-cutting-34012
END:VEVENT

END:VCALENDAR
