BEGIN:VCALENDAR
VERSION:2.0
PRODID:-//ChamberMaster//Event Calendar 2.0//EN
METHOD:PUBLISH
X-PUBLISHED-TTL:P3D
REFRESH-INTERVAL:P3D
CALSCALE:GREGORIAN
BEGIN:VEVENT
DTSTART;VALUE=DATE:20220111
DTEND;VALUE=DATE:20220112
TRANSP:TRANSPARENT
X-MICROSOFT-CDO-ALLDAYEVENT:TRUE
SUMMARY:Hiring Event Lowes Home Improvement-Destin
DESCRIPTION:Lowes Home Improvement is now hiring for the SPRING season We are hiring for Cashiers\, Over Night Warehouse Stocker\, and Outside Lawn and Garden Customer Service Associates. Apply on line at www.lowes.com/careers
X-ALT-DESC;FMTTYPE=text/html:Lowes Home Improvement is now hiring for the SPRING season We are hiring for Cashiers\, Over Night Warehouse Stocker\, and Outside Lawn and Garden Customer Service Associates. Apply on line at www.lowes.com/careers
LOCATION:Lowes Home Improvement 4405 Legendary Drive Destin\, FL 32451
UID:e.885.33233
SEQUENCE:3
DTSTAMP:20260423T094757Z
URL:https://business.waltonareachamber.com/events/details/hiring-event-lowes-home-improvement-destin-33233
END:VEVENT

END:VCALENDAR
