BEGIN:VCALENDAR
VERSION:2.0
PRODID:-//ChamberMaster//Event Calendar 2.0//EN
METHOD:PUBLISH
X-PUBLISHED-TTL:P3D
REFRESH-INTERVAL:P3D
CALSCALE:GREGORIAN
BEGIN:VEVENT
DTSTART:20210514T050000Z
DTEND:20210514T050000Z
X-MICROSOFT-CDO-ALLDAYEVENT:FALSE
SUMMARY:Historic DeFuniak Springs Lake Fest
DESCRIPTION:The City of DeFuniak Springs will bring back its LakeFest this year. The 3-day festival\, beginning May 14\, celebrates safe\, family-friendly outdoor recreational activities in the water and on the banks of Lake DeFuniak. In addition to educational booths and exhibits\, the event includes kids activities\, live entertainment\, a car show\, parade and more! See more details here.
X-ALT-DESC;FMTTYPE=text/html:<span style="font-size:14px\;"><span style="font-family:arial\;"><span style="color:#FFFFFF\;"><span style="margin: 0px\; padding: 0px\; border: 0px\; font-variant-numeric: inherit\; font-variant-east-asian: inherit\; font-stretch: inherit\; line-height: inherit\; vertical-align: baseline\; text-align: center\; background-color: rgb(52\, 179\, 229)\;">The City of DeFuniak Springs will bring back its&nbsp\;</span></span><span style="margin: 0px\; padding: 0px\; border: 0px\; font-variant-numeric: inherit\; font-variant-east-asian: inherit\; font-stretch: inherit\; line-height: inherit\; vertical-align: baseline\; text-align: center\; background-color: rgb(52\, 179\, 229)\;"><a data-auth="NotApplicable" data-linkindex="28" href="http://r20.rs6.net/tn.jsp?f=001yvvqjN-B8qKwQUERX8q09r80Wo6NTVfNVVQXJS8-rPYq-UdKSPoiI_Ska4uEZ8BaZ6iiYfdKumq2_K30J4_HPLxVchZiHdNpETlxHNYNVEsf9UcAyVCRmVDKuf8pXDC6dKm7SlG1cI3o_WqJMuiggk-DJWJHJgqBEms_uRmH215WEJhg3jglxg==&amp\;c=Mg82jf2ZsBAznd1o5yb-tKA_LRaD5PeghUYbi9_HyVZTx0vjg25QGg==&amp\;ch=JlvsVcpCd6xxa3MH3StLSxb_PX44L9DAmLit_5aVPq218C1ozIwzNw==" rel="noopener noreferrer" style="margin: 0px\; padding: 0px\; border: 0px\; font: inherit\; vertical-align: baseline\;" target="_blank"><span style="color:#FFFFFF\;"><span style="margin: 0px\; padding: 0px\; border: 0px\; font-style: inherit\; font-variant: inherit\; font-weight: inherit\; font-stretch: inherit\; line-height: inherit\; vertical-align: baseline\;">LakeFest</span></span></a></span><span style="color:#FFFFFF\;"><span style="margin: 0px\; padding: 0px\; border: 0px\; font-variant-numeric: inherit\; font-variant-east-asian: inherit\; font-stretch: inherit\; line-height: inherit\; vertical-align: baseline\; text-align: center\; background-color: rgb(52\, 179\, 229)\;">&nbsp\;this year. The 3-day festival\,&nbsp\;<b>beginning May 14</b>\, celebrates safe\, family-friendly outdoor recreational activities in the water and on the banks of Lake DeFuniak. In addition to educational booths and exhibits\, the event includes kids activities\, live entertainment\, a car show\, parade and more! See more details&nbsp\;</span></span><span style="margin: 0px\; padding: 0px\; border: 0px\; font-variant-numeric: inherit\; font-variant-east-asian: inherit\; font-stretch: inherit\; line-height: inherit\; vertical-align: baseline\; text-align: center\; background-color: rgb(52\, 179\, 229)\;"><a data-auth="NotApplicable" data-linkindex="29" href="http://r20.rs6.net/tn.jsp?f=001yvvqjN-B8qKwQUERX8q09r80Wo6NTVfNVVQXJS8-rPYq-UdKSPoiI_Ska4uEZ8BaZ6iiYfdKumq2_K30J4_HPLxVchZiHdNpETlxHNYNVEsf9UcAyVCRmVDKuf8pXDC6dKm7SlG1cI3o_WqJMuiggk-DJWJHJgqBEms_uRmH215WEJhg3jglxg==&amp\;c=Mg82jf2ZsBAznd1o5yb-tKA_LRaD5PeghUYbi9_HyVZTx0vjg25QGg==&amp\;ch=JlvsVcpCd6xxa3MH3StLSxb_PX44L9DAmLit_5aVPq218C1ozIwzNw==" rel="noopener noreferrer" style="margin: 0px\; padding: 0px\; border: 0px\; font: inherit\; vertical-align: baseline\;" target="_blank"><span style="color:#FFFFFF\;"><span style="margin: 0px\; padding: 0px\; border: 0px\; font-style: inherit\; font-variant: inherit\; font-weight: inherit\; font-stretch: inherit\; line-height: inherit\; vertical-align: baseline\;">here</span></span></a></span><span style="color:#FFFFFF\;"><span style="margin: 0px\; padding: 0px\; border: 0px\; font-variant-numeric: inherit\; font-variant-east-asian: inherit\; font-stretch: inherit\; line-height: inherit\; vertical-align: baseline\; text-align: center\; background-color: rgb(52\, 179\, 229)\;">.</span></span></span></span>
LOCATION:
UID:e.885.30055
SEQUENCE:3
DTSTAMP:20260422T142708Z
URL:https://business.waltonareachamber.com/events/details/historic-defuniak-springs-lake-fest-30055
END:VEVENT

END:VCALENDAR
