BEGIN:VCALENDAR
VERSION:2.0
PRODID:-//ChamberMaster//Event Calendar 2.0//EN
METHOD:PUBLISH
X-PUBLISHED-TTL:P3D
REFRESH-INTERVAL:P3D
CALSCALE:GREGORIAN
BEGIN:VEVENT
DTSTART:20211022T220000Z
DTEND:20211023T020000Z
X-MICROSOFT-CDO-ALLDAYEVENT:FALSE
SUMMARY:Hocus Pocus Movie Night\, Costumes and Family Fun at Topsail Hill Preserve State Park
DESCRIPTION:Hocus Pocus Movie Night. Wear Your Halloween Costumes.\n\nFamily Fun\, Face Painting\, Kids Crafts\, Costume Contest\, Food Truck\, Speciality Drinks and More.
X-ALT-DESC;FMTTYPE=text/html:Hocus Pocus Movie Night. Wear Your Halloween Costumes.<br />\nFamily Fun\, Face Painting\, Kids Crafts\, Costume Contest\, Food Truck\, Speciality Drinks and More.<br />\n&nbsp\;
LOCATION:Topsail Hill Preserve State Park
UID:e.885.32590
SEQUENCE:3
DTSTAMP:20260423T031547Z
URL:https://business.waltonareachamber.com/events/details/hocus-pocus-movie-night-costumes-and-family-fun-at-topsail-hill-preserve-state-park-32590
END:VEVENT

END:VCALENDAR
