BEGIN:VCALENDAR
VERSION:2.0
PRODID:-//ChamberMaster//Event Calendar 2.0//EN
METHOD:PUBLISH
X-PUBLISHED-TTL:P3D
REFRESH-INTERVAL:P3D
CALSCALE:GREGORIAN
BEGIN:VEVENT
DTSTART:20211203T230000Z
DTEND:20211204T010000Z
X-MICROSOFT-CDO-ALLDAYEVENT:FALSE
SUMMARY:Holiday Shop\, Sip N' Stroll
DESCRIPTION:Join J.Leon Gallery and Studio for our Holiday Shop\, Sip N' Stroll event on Friday\, December 3rd from 5:00 p.m. - 7:00 p.m.! A combined event featuring J.Leon Gallery + Studio\, McCaskill & Company\, and Mollega Eye Care & Optique. Shop local favorites\, sip festive beverages\, snacks\, and enjoy a boutique shopping experience with some surprises along the way.
X-ALT-DESC;FMTTYPE=text/html:Join J.Leon Gallery and Studio for our Holiday Shop\, Sip N&#39\; Stroll event on Friday\, December 3rd from 5:00 p.m. - 7:00 p.m.! A combined event featuring J.Leon Gallery + Studio\, McCaskill &amp\; Company\, and Mollega Eye Care &amp\; Optique. Shop local favorites\, sip festive beverages\, snacks\, and enjoy a boutique shopping experience with some surprises along the way.
LOCATION:13370 U.S. Highway 98 Miramar Beach\, FL 32550
UID:e.885.32632
SEQUENCE:3
DTSTAMP:20260423T080542Z
URL:https://business.waltonareachamber.com/events/details/holiday-shop-sip-n-stroll-32632
END:VEVENT

END:VCALENDAR
