BEGIN:VCALENDAR
VERSION:2.0
PRODID:-//ChamberMaster//Event Calendar 2.0//EN
METHOD:PUBLISH
X-PUBLISHED-TTL:P3D
REFRESH-INTERVAL:P3D
CALSCALE:GREGORIAN
BEGIN:VEVENT
DTSTART:20260521T140000Z
DTEND:20260521T150000Z
X-MICROSOFT-CDO-ALLDAYEVENT:FALSE
SUMMARY:Home Helpers of the Gulf Coast Grand Opening and Ribbon Cutting
DESCRIPTION:Join the Walton Area Chamber of Commerce as we celebrate the grand opening of Home Helpers of the Gulf Coast in DeFuniak Springs.\n\nGuests are invited to arrive at 9:00 AM to enjoy a light breakfast and connect with fellow members of Walton County's largest business community. The ribbon cutting ceremony will take place at 9:30 AM.\n\nCome out to support the team at Home Helpers of the Gulf Coast as they officially open their doors and begin serving our community.\n\nLocation:\n\n1846 US Hwy 90 West\, Unit B\n\nDeFuniak Springs\, FL 32433\n\nWe look forward to celebrating this exciting milestone with you!
X-ALT-DESC;FMTTYPE=text/html:<p data-end="335" data-start="202">Join the Walton Area Chamber of Commerce as we celebrate the grand opening of <strong data-end="314" data-start="280">Home Helpers of the Gulf Coast</strong> in DeFuniak Springs.</p>\n\n<p data-end="546" data-start="337">Guests are invited to arrive at <strong data-end="380" data-start="369">9:00 AM</strong> to enjoy a light breakfast and connect with fellow members of Walton County&rsquo\;s largest business community. The ribbon cutting ceremony will take place at <strong data-end="545" data-start="534">9:30 AM</strong>.</p>\n\n<p data-end="679" data-start="548">Come out to support the team at Home Helpers of the Gulf Coast as they officially open their doors and begin serving our community.</p>\n\n<p data-end="753" data-start="681"><strong data-end="694" data-start="681">Location:</strong><br data-end="697" data-start="694" />\n1846 US Hwy 90 West\, Unit B<br data-end="727" data-start="724" />\nDeFuniak Springs\, FL 32433</p>\n\n<p data-end="819" data-start="755">We look forward to celebrating this exciting milestone with you!</p>\n
LOCATION:Home Helpers of the Gulf Coast 1846 US Hwy 90 West Unit B DeFuniak Springs\, FL 32433
UID:e.885.57332
SEQUENCE:3
DTSTAMP:20260422T062225Z
URL:https://business.waltonareachamber.com/events/details/home-helpers-of-the-gulf-coast-grand-opening-and-ribbon-cutting-57332
END:VEVENT

END:VCALENDAR
