BEGIN:VCALENDAR
VERSION:2.0
PRODID:-//ChamberMaster//Event Calendar 2.0//EN
METHOD:PUBLISH
X-PUBLISHED-TTL:P3D
REFRESH-INTERVAL:P3D
CALSCALE:GREGORIAN
BEGIN:VEVENT
DTSTART:20210715T160000Z
DTEND:20210715T173000Z
X-MICROSOFT-CDO-ALLDAYEVENT:FALSE
SUMMARY:IDEAL Roundtable: Coffee Conversations with hrQ - Power\, Privilege\, Influence\, & Change
DESCRIPTION:Power\, Privilege\, Influence\, & Change\n\nRegardless of color\, creed\, ethnicity\, or gender-identification\, being in a privileged position inherently comes with an extraordinary amount of power and responsibility. Great organizations arise when leaders leverage their influence to benefit everyone. It is critical that we all aspire to be ambassadors\, advocates\, and allies to those who are under-represented.\n\nLet's build a bridge to walk towards each other rather than away. Join us as we "de-fang\," de-mystify\, and discuss how leveraging one's privileged role can influence and affect positive change in establishing\, cultivating\, and embracing an IDEAL environment at work\, school\, and in everyday life.\n\nApproved for 1.5 HRCI/SHRM credit hours.\nRegister now\n\nPanelists:\n\nAndy Hooper   President\, &pizza\n\nReggie Bibb\, M.Ed   Director of Diversity & Inclusion\, Wylie Independent School District\n\nFacilitator:\n\nSalvador Vergara   VP & Managing Director\, hrQ
X-ALT-DESC;FMTTYPE=text/html:<h3><span style="font-size:14px"><span style="font-family:arial">Power\, Privilege\, Influence\, &amp\; Change</span></span></h3>\n\n<p><span style="font-size:14px"><span style="font-family:arial">Regardless of color\, creed\, ethnicity\, or gender-identification\, being in a privileged position inherently comes with an extraordinary amount of power and responsibility. Great organizations arise when leaders leverage their influence to benefit everyone. It is critical that we all aspire to be ambassadors\, advocates\, and allies to those who are under-represented.</span></span></p>\n\n<p><span style="font-size:14px"><span style="font-family:arial">Let&rsquo\;s build a bridge to walk towards each other rather than away. Join us as we &ldquo\;de-fang\,&rdquo\; de-mystify\, and discuss how leveraging one&rsquo\;s privileged role can influence and affect positive change in establishing\, cultivating\, and embracing an IDEAL environment at work\, school\, and in everyday life.</span></span></p>\n\n<p><span style="font-size:14px"><span style="font-family:arial"><em>Approved for 1.5 HRCI/SHRM credit hours.</em></span></span></p>\n<span style="font-size:14px"><span style="font-family:arial"><a href="https://bit.ly/2TVLPSj"><strong>Register now</strong></a></span></span>\n\n<h3><span style="font-size:14px"><span style="font-family:arial">Panelists:</span></span></h3>\n\n<p><span style="font-size:14px"><span style="font-family:arial"><a href="https://www.linkedin.com/in/andy-hooper-722265/?miniProfileUrn=urn%3Ali%3Afs_miniProfile%3AACoAAAAJo8oBI-cz0l-dwwrobRLWWEYdt9640VY" rel="noopener" style="box-sizing: border-box\; display: inline-block\; background: transparent\; color: rgb(155\, 194\, 53)\; cursor: pointer\; transition: all 0.3s ease 0s\;" target="_blank">Andy Hooper</a>&nbsp\;&brvbar\; President\, &amp\;pizza</span></span></p>\n\n<p><span style="font-size:14px"><span style="font-family:arial"><a href="https://www.linkedin.com/in/reggie-bibb-m-ed-3636a049/" rel="noopener" style="box-sizing: border-box\; display: inline-block\; background: transparent\; color: rgb(155\, 194\, 53)\; cursor: pointer\; transition: all 0.3s ease 0s\;" target="_blank">Reggie Bibb\, M.Ed</a>&nbsp\;&brvbar\; Director of Diversity &amp\; Inclusion\, Wylie Independent School District</span></span></p>\n\n<h3><span style="font-size:14px"><span style="font-family:arial">Facilitator:</span></span></h3>\n\n<p><span style="font-size:14px"><span style="font-family:arial"><a href="https://www.linkedin.com/in/salvergara/" rel="noopener" style="box-sizing: border-box\; display: inline-block\; background: transparent\; color: rgb(155\, 194\, 53)\; cursor: pointer\; transition: all 0.3s ease 0s\;" target="_blank">Salvador Vergara</a>&nbsp\;&brvbar\; VP &amp\; Managing Director\, hrQ</span></span></p>\n
LOCATION:Webinar (virtual)
UID:e.885.32356
SEQUENCE:3
DTSTAMP:20260422T214734Z
URL:https://business.waltonareachamber.com/events/details/hrq-ideal-roundtable-coffee-conversations-with-sal-privilege-power-influence-change-32356
END:VEVENT

END:VCALENDAR
