BEGIN:VCALENDAR
VERSION:2.0
PRODID:-//ChamberMaster//Event Calendar 2.0//EN
METHOD:PUBLISH
X-PUBLISHED-TTL:P3D
REFRESH-INTERVAL:P3D
CALSCALE:GREGORIAN
BEGIN:VEVENT
DTSTART:20210729T180000Z
DTEND:20210729T190000Z
X-MICROSOFT-CDO-ALLDAYEVENT:FALSE
SUMMARY:hrQ Q2 Workforce & Economic Trends Webinar
DESCRIPTION:This webinar session is designed to provide leaders perspective on today's economic climate and the implications for their organizations. During this 60-minute webinar\, we will cover:\n\n\n	What companies should be doing to retain critical talent\n	How to engage your workforce during this challenging time\n	Specific actions you should and should not be taking\n\n\nhrQ's Corporate Vice President\, Brian Wilkerson\, discusses how organizations can take advantage of emerging trends and prepare for coming changes.\n\nApproved for HRCI/SHRM credit.\nRegister now\n\nAbout the Presenter:\n\nBrian Wilkerson\, Corporate Vice President\, Denver\n\nBrian is a nationally recognized expert in the fields of talent strategy and workforce planning. He has been at the forefront of helping companies turn talent into a competitive advantage for the past 20 years\, with some of his past clients including: Yamaha\, Hasbro\, Baxter Healthcare\, Western Union\, and federal\, state\, and local governments. Brian regularly speaks at national conferences and has authored articles and book chapters on innovations in Human Capital. Brian brings extensive knowledge\, expertise\, and real-world applications to help organizations achieve their business strategy and growth objectives.
X-ALT-DESC;FMTTYPE=text/html:<p><span style="font-size:14px\;"><span style="font-family:arial\;">This webinar session is designed to provide leaders perspective on today&rsquo\;s economic climate and the implications for their organizations. During this 60-minute webinar\, we will cover:</span></span></p>\n\n<ul>\n	<li><span style="font-size:14px\;"><span style="font-family:arial\;">What companies should be doing to retain critical talent</span></span></li>\n	<li><span style="font-size:14px\;"><span style="font-family:arial\;">How to engage your workforce during this challenging time</span></span></li>\n	<li><span style="font-size:14px\;"><span style="font-family:arial\;">Specific actions you should and should not be taking</span></span></li>\n</ul>\n\n<p><span style="font-size:14px\;"><span style="font-family:arial\;">hrQ&rsquo\;s Corporate Vice President\, Brian Wilkerson\, discusses how organizations can take advantage of emerging trends and prepare for coming changes.</span></span></p>\n\n<p><span style="font-size:14px\;"><span style="font-family:arial\;"><em>Approved for HRCI/SHRM credit.</em></span></span></p>\n<span style="font-size:14px\;"><span style="font-family:arial\;"><a href="https://www.hrqinc.com/2021-q2-workforce-economic-trends/">Register now</a></span></span>\n\n<h3><span style="font-size:14px\;"><span style="font-family:arial\;">About the Presenter:</span></span></h3>\n\n<p><span style="font-size:14px\;"><span style="font-family:arial\;"><a href="https://www.hrqinc.com/team_member/brian-wilkerson/" rel="noopener" style="box-sizing: border-box\; display: inline-block\; background: transparent\; color: rgb(155\, 194\, 53)\; cursor: pointer\; transition: all 0.3s ease 0s\;" target="_blank">Brian Wilkerson</a>\, Corporate Vice President\, Denver</span></span></p>\n\n<p><span style="font-size:14px\;"><span style="font-family:arial\;">Brian is a nationally recognized expert in the fields of talent strategy and workforce planning. He has been at the forefront of helping companies turn talent into a competitive advantage for the past 20 years\, with some of his past clients including: Yamaha\, Hasbro\, Baxter Healthcare\, Western Union\, and federal\, state\, and local governments. Brian regularly speaks at national conferences and has authored articles and book chapters on innovations in Human Capital. Brian brings extensive knowledge\, expertise\, and real-world applications to help organizations achieve their business strategy and growth objectives.</span></span></p>\n
LOCATION:Webinar
UID:e.885.32351
SEQUENCE:3
DTSTAMP:20260422T214610Z
URL:https://business.waltonareachamber.com/events/details/hrq-q2-workforce-economic-trends-webinar-32351
END:VEVENT

END:VCALENDAR
