BEGIN:VCALENDAR
VERSION:2.0
PRODID:-//ChamberMaster//Event Calendar 2.0//EN
METHOD:PUBLISH
X-PUBLISHED-TTL:P3D
REFRESH-INTERVAL:P3D
CALSCALE:GREGORIAN
BEGIN:VEVENT
DTSTART:20230316T223000Z
DTEND:20230317T000000Z
X-MICROSOFT-CDO-ALLDAYEVENT:FALSE
SUMMARY:Impact100 NWF Recruiting Event - North Walton County
DESCRIPTION:Impact100 Northwest Florida will hold a "Mix & Mingle" membership recruiting event for local women at Anderson Farm\, 14475 Highway 331 North in DeFuniak Springs from 5:30pm to 7pm on Thursday\, March 16.  Beverages and light appetizers will be served.  Impact100 NWF financially supports nonprofit organizations that serve residents of Okaloosa and Walton Counties by empowering women as philanthropists and leaders.  Impact100 NWF provides $100\,000 grants to local charitable organizations. Since its creation in 2012\, the group has donated $4.1 million to thirty-eight local nonprofit groups. This will be a free\, low-pressure gathering to provide information and share the Impact100 story. Register to attend at https://tinyurl.com/andersonfarm.
X-ALT-DESC;FMTTYPE=text/html:Impact100 Northwest Florida will hold a &ldquo\;Mix &amp\; Mingle&rdquo\; membership recruiting event for local women at Anderson Farm\, 14475 Highway 331 North in DeFuniak Springs from 5:30pm to 7pm on Thursday\, March 16. &nbsp\;Beverages and light appetizers will be served. &nbsp\;Impact100 NWF financially supports nonprofit organizations that serve residents of Okaloosa and Walton Counties by empowering women as philanthropists and leaders. &nbsp\;<span style="font-family:arial\,sans-serif\;">Impact100 NWF&nbsp\;provides $100\,000&nbsp\;grants&nbsp\;to local charitable organizations.&nbsp\;Since&nbsp\;its&nbsp\;creation in 2012\, the group has donated $4.1 million to thirty-eight local nonprofit groups. This will be a free\, low-pressure gathering to provide information and share the Impact100 story. Register to attend at&nbsp\;</span><a href="https://tinyurl.com/andersonfarm">https://tinyurl.com/andersonfarm</a>.
LOCATION:Anderson Farm 14475 Hwy 331 N Defuniak Springs\, FL
UID:e.885.34383
SEQUENCE:3
DTSTAMP:20260424T052158Z
URL:https://business.waltonareachamber.com/events/details/impact100-nwf-recruiting-event-north-walton-county-34383
END:VEVENT

END:VCALENDAR
