BEGIN:VCALENDAR
VERSION:2.0
PRODID:-//ChamberMaster//Event Calendar 2.0//EN
METHOD:PUBLISH
X-PUBLISHED-TTL:P3D
REFRESH-INTERVAL:P3D
CALSCALE:GREGORIAN
BEGIN:VEVENT
DTSTART:20210929T180000Z
DTEND:20210929T200000Z
X-MICROSOFT-CDO-ALLDAYEVENT:FALSE
SUMMARY:Internship and Career Fair - Call for Recruiters
DESCRIPTION:Good talent can be so hard to find. That is\, until now! Whether you are looking for interns or your next greatest leader\, participate in the fair by having a "talent table" to meet prospective employees or interns. If you are a career seeker or student searching for a rewarding internship\, then grab your resume and business cards and join us for this free event to find your next employer or internship. Recruiters: Please reserve your "Talent Table" by completing this form.
X-ALT-DESC;FMTTYPE=text/html:Good talent can be so hard to find. That is\, until now! Whether you are looking for interns or your next greatest leader\, participate in the fair by having a &quot\;talent table&quot\; to meet prospective employees or interns. If you are a career seeker or student searching for a rewarding internship\, then grab your resume and business cards and join us for this free event to find your next employer or internship. Recruiters: Please reserve your &quot\;Talent Table&quot\; by completing this form.
LOCATION:TCC Center for Innovation Conference Room 300 W Pensacola St #3\, Tallahassee\, FL 32301
UID:e.885.32403
SEQUENCE:3
DTSTAMP:20260423T010631Z
URL:https://business.waltonareachamber.com/events/details/internship-and-career-fair-call-for-recruiters-32403
END:VEVENT

END:VCALENDAR
