BEGIN:VCALENDAR
VERSION:2.0
PRODID:-//ChamberMaster//Event Calendar 2.0//EN
METHOD:PUBLISH
X-PUBLISHED-TTL:P3D
REFRESH-INTERVAL:P3D
CALSCALE:GREGORIAN
BEGIN:VEVENT
DTSTART:20210604T220000Z
DTEND:20210605T010000Z
X-MICROSOFT-CDO-ALLDAYEVENT:FALSE
SUMMARY:J. Leon Gallery and Studio One Year Celebration
DESCRIPTION:Join J. Leon Gallery and Studio as they celebrate one year in business on June 4th from 5pm-8pm! Enjoy a night of art\, champagne\, and hors d'oeuvres! They will have LIVE artist paintings throughout the night and a very special giveaway! Visit South Walton's 2019 Artist of the Year Jenna Varney will unveil her most ambitious painting to date! Six months in the making\, this painting tells a wonderful story captured in great detail. This moment is one you don't want to miss!
X-ALT-DESC;FMTTYPE=text/html:<span style="font-size:14px\;"><span style="font-family:arial\;">Join J. Leon Gallery and Studio as they celebrate one year in business on June 4th from 5pm-8pm! Enjoy a night of art\, champagne\, and hors d&#39\;oeuvres! They will have LIVE artist paintings throughout the night and a very special giveaway! Visit South Walton&#39\;s 2019 Artist of the Year Jenna Varney will unveil her most ambitious painting to date! Six months in the making\, this painting tells a wonderful story captured in great detail. This moment is one you don&#39\;t want to miss!</span></span>
LOCATION:13370 US-98\, Miramar Beach\, FL 32550
UID:e.885.31911
SEQUENCE:3
DTSTAMP:20260422T200307Z
URL:https://business.waltonareachamber.com/events/details/j-leon-gallery-and-studio-one-year-celebration-31911
END:VEVENT

END:VCALENDAR
