BEGIN:VCALENDAR
VERSION:2.0
PRODID:-//ChamberMaster//Event Calendar 2.0//EN
METHOD:PUBLISH
X-PUBLISHED-TTL:P3D
REFRESH-INTERVAL:P3D
CALSCALE:GREGORIAN
BEGIN:VEVENT
DTSTART;VALUE=DATE:20220531
DTEND;VALUE=DATE:20220608
TRANSP:TRANSPARENT
X-MICROSOFT-CDO-ALLDAYEVENT:TRUE
SUMMARY:J.Leon Gallery Pop-Up Showcase
DESCRIPTION:Stop by J.Leon Gallery + Studio to enjoy a special Pop-Up Showcase featuring artist\, Dorothea Berkhout! WHEN: During regular business hours from Tuesday\, May 31st to Tuesday\, June 7th. This showcase will also be a part of J.Leon's June Sip N' Stroll event on Friday\, June 3rd. About the artist: An oil painter\, Dorothea Berkhout admires Dutch master painters\, and focuses her interest in contrasts between shadow and light and highlighting objects to reflect the angle of light so that her paintings exhibit a realistic approach and perspective. Having traveled nationally and internationally\, her paintings render the beauty\, balance\, and order that she has experienced in an attempt to express from a variety of settings.
X-ALT-DESC;FMTTYPE=text/html:Stop by J.Leon Gallery + Studio to enjoy a special Pop-Up Showcase featuring artist\, Dorothea Berkhout! WHEN: During regular business hours from Tuesday\, May 31st to Tuesday\, June 7th. This showcase will also be a part of J.Leon&#39\;s June Sip N&rsquo\; Stroll event on Friday\, June 3rd. About the artist: An oil painter\, Dorothea Berkhout admires Dutch master painters\, and focuses her interest in contrasts between shadow and light and highlighting objects to reflect the angle of light so that her paintings exhibit a realistic approach and perspective. Having traveled nationally and internationally\, her paintings render the beauty\, balance\, and order that she has experienced in an attempt to express from a variety of settings.
LOCATION:J.Leon Gallery + Studio
UID:e.885.33876
SEQUENCE:3
DTSTAMP:20260423T142727Z
URL:https://business.waltonareachamber.com/events/details/j-leon-gallery-pop-up-showcase-33876
END:VEVENT

END:VCALENDAR
