BEGIN:VCALENDAR
VERSION:2.0
PRODID:-//ChamberMaster//Event Calendar 2.0//EN
METHOD:PUBLISH
X-PUBLISHED-TTL:P3D
REFRESH-INTERVAL:P3D
CALSCALE:GREGORIAN
BEGIN:VEVENT
DTSTART:20220304T230000Z
DTEND:20220305T010000Z
X-MICROSOFT-CDO-ALLDAYEVENT:FALSE
SUMMARY:J.Leon Gallery Sip N' Stroll
DESCRIPTION:Enjoy an evening of art at J.Leon Gallery and Studio with wine\, champagne\, and light snacks. Get the chance to meet local artists and view work from artists both regionally and from the Okaloosa/Walton area- including painters\, mixed media artists\, ceramics artists\, and illustrators. Tour our gallery and fully functioning ceramics studio and delight in a night of creativity.
X-ALT-DESC;FMTTYPE=text/html:Enjoy an evening of art at J.Leon Gallery and Studio with wine\, champagne\, and light snacks. Get the chance to meet local artists and view work from artists both regionally and from the Okaloosa/Walton area- including painters\, mixed media artists\, ceramics artists\, and illustrators. Tour our gallery and fully functioning ceramics studio and delight in a night of creativity.
LOCATION:J.Leon Gallery + Studio 13370 US-98\, Miramar Beach
UID:e.885.33290
SEQUENCE:3
DTSTAMP:20260423T111502Z
URL:https://business.waltonareachamber.com/events/details/j-leon-gallery-sip-n-stroll-03-04-2022-33290
END:VEVENT

END:VCALENDAR
