BEGIN:VCALENDAR
VERSION:2.0
PRODID:-//ChamberMaster//Event Calendar 2.0//EN
METHOD:PUBLISH
X-PUBLISHED-TTL:P3D
REFRESH-INTERVAL:P3D
CALSCALE:GREGORIAN
BEGIN:VEVENT
DTSTART:20220603T220000Z
DTEND:20220604T000000Z
X-MICROSOFT-CDO-ALLDAYEVENT:FALSE
SUMMARY:J.Leon Gallery Sip N' Stroll
DESCRIPTION:Enjoy a special evening of art at J.Leon Gallery and Studio with wine\, champagne\, and light snacks. This Sip N' Stroll will have a pop-up showcase featuring work from oil painter\, Dorothea Berkhout! Don't miss LIVE paintings during the event and your chance to meet our newest artists. This art rotation features artwork from Kentucky\, Atlanta\, North Carolina\, and our local area. Artists include painters\, mixed media artists\, ceramics artists\, sculptors\, jewelry\, and illustrators. Tour our gallery and art studio and delight in a night of creativity.
X-ALT-DESC;FMTTYPE=text/html:Enjoy a special evening of art at J.Leon Gallery and Studio with wine\, champagne\, and light snacks. This Sip N&#39\; Stroll will have a pop-up showcase featuring work from oil painter\, Dorothea Berkhout! Don&#39\;t miss LIVE paintings during the event and your chance to meet our newest artists. This art rotation features artwork from Kentucky\, Atlanta\, North Carolina\, and our local area. Artists include painters\, mixed media artists\, ceramics artists\, sculptors\, jewelry\, and illustrators. Tour our gallery and art studio and delight in a night of creativity.
LOCATION:J.Leon Gallery + Studio
UID:e.885.33877
SEQUENCE:3
DTSTAMP:20260423T154753Z
URL:https://business.waltonareachamber.com/events/details/j-leon-gallery-sip-n-stroll-06-03-2022-33877
END:VEVENT

END:VCALENDAR
