BEGIN:VCALENDAR
VERSION:2.0
PRODID:-//ChamberMaster//Event Calendar 2.0//EN
METHOD:PUBLISH
X-PUBLISHED-TTL:P3D
REFRESH-INTERVAL:P3D
CALSCALE:GREGORIAN
BEGIN:VEVENT
DTSTART:20220714T213000Z
DTEND:20220714T233000Z
X-MICROSOFT-CDO-ALLDAYEVENT:FALSE
SUMMARY:July 2022 Business After Hours sponsored by Hand Arendall Harrison Sale and Emerald Coast Title Services
DESCRIPTION:Join us in celebrating Hand Arendall Harrison Sale and Emerald Coast Title Services' newest locations. There will be a ribbon-cutting at 4:30 p.m. followed by music\, hors d'oeuvres\, and a full bar! Come enjoy a night of celebration\, networking\, and a chance to explore their new space!
X-ALT-DESC;FMTTYPE=text/html:<span style="color: rgb(5\, 5\, 5)\; font-family: &quot\;Segoe UI Historic&quot\;\, &quot\;Segoe UI&quot\;\, Helvetica\, Arial\, sans-serif\; font-size: 15px\; background-color: rgb(255\, 255\, 255)\;">Join us in celebrating Hand Arendall Harrison Sale and Emerald Coast Title Services&#39\; newest locations. There will be a ribbon-cutting at 4:30 p.m. followed by music\, hors d&#39\;oeuvres\, and a full bar! Come enjoy a night of celebration\, networking\, and a chance to explore their new space!</span>
LOCATION:111 N County Hwy 393 Santa Rosa Beach\, FL 32459
UID:e.885.33263
SEQUENCE:3
DTSTAMP:20260423T170951Z
URL:https://business.waltonareachamber.com/events/details/july-2022-business-after-hours-sponsored-by-hand-arendall-harrison-sale-and-emerald-coast-title-services-33263
END:VEVENT

END:VCALENDAR
