BEGIN:VCALENDAR
VERSION:2.0
PRODID:-//ChamberMaster//Event Calendar 2.0//EN
METHOD:PUBLISH
X-PUBLISHED-TTL:P3D
REFRESH-INTERVAL:P3D
CALSCALE:GREGORIAN
BEGIN:VEVENT
DTSTART:20210604T123000Z
DTEND:20210604T140000Z
X-MICROSOFT-CDO-ALLDAYEVENT:FALSE
SUMMARY:June 2021 First Friday Breakfast sponsored by Emerald Coast Technical College
DESCRIPTION:Register now for our June First Friday Breakfast sponsored by Emerald Coast Technical College. You will hear from Leslie Harrison\, IT instructor for ECTC. She will be presenting on what's new and exciting at Emerald Coast Technical College. You will learn about their awesome programs and facility. Don't forget to bring your business cards and door prizes!
X-ALT-DESC;FMTTYPE=text/html:<strong><span style="color:#000080\;"><span style="font-size:28px\;"><span style="font-family:arial\;">Register now for our June First Friday Breakfast sponsored by Emerald Coast Technical College. You will hear from&nbsp\;Leslie Harrison\, IT instructor for ECTC. She will be presenting on what&#39\;s new and exciting at Emerald Coast Technical&nbsp\;College. You will learn about their awesome programs and facility. Don&#39\;t forget to bring your business cards and door prizes!&nbsp\;</span></span></span></strong>
LOCATION:Emerald Coast Technical College 761 N 20th St\, DeFuniak Springs\, FL 32433
UID:e.885.31909
SEQUENCE:3
DTSTAMP:20260422T200328Z
URL:https://business.waltonareachamber.com/events/details/june-2021-first-friday-breakfast-sponsored-by-emerald-coast-technical-college-31909
END:VEVENT

END:VCALENDAR
