BEGIN:VCALENDAR
VERSION:2.0
PRODID:-//ChamberMaster//Event Calendar 2.0//EN
METHOD:PUBLISH
X-PUBLISHED-TTL:P3D
REFRESH-INTERVAL:P3D
CALSCALE:GREGORIAN
BEGIN:VEVENT
DTSTART:20220616T213000Z
DTEND:20220616T233000Z
X-MICROSOFT-CDO-ALLDAYEVENT:FALSE
SUMMARY:June 2022 Business After Hours hosted at Caring & Sharing of South Walton
DESCRIPTION:Please join us for our June 2022 Business After Hours! The event will be hosted at the beautiful Caring & Sharing of South Walton. There will be lots of networking and yummy light bites served with beer and wine. If you haven't checked this amazing business out you are in for a treat.
X-ALT-DESC;FMTTYPE=text/html:<strong><span style="font-size:36px\;"><span style="color:#B22222\;"><span style="text-align: center\;">Please join us for our June&nbsp\;2022 Business After Hours! The event will be hosted at the beautiful&nbsp\;</span><span style="font-family: &quot\;Google Sans&quot\;\, Roboto\, arial\, sans-serif\; background-color: rgb(255\, 255\, 255)\;">Caring &amp\; Sharing of South Walton. There will be lots of networking and yummy light bites served with beer and wine. If you haven&#39\;t checked this amazing business out you are in for a treat.</span></span></span><span style="color: rgb(32\, 33\, 36)\; font-family: &quot\;Google Sans&quot\;\, Roboto\, arial\, sans-serif\; font-size: 24px\; background-color: rgb(255\, 255\, 255)\;">&nbsp\;</span></strong>
LOCATION:Caring & Sharing of South Walton 112 Lynn Dr\, Santa Rosa Beach\, FL 32459
UID:e.885.33262
SEQUENCE:3
DTSTAMP:20260423T155123Z
URL:https://business.waltonareachamber.com/events/details/june-2022-business-after-hours-hosted-at-caring-sharing-of-south-walton-33262
END:VEVENT

END:VCALENDAR
