BEGIN:VCALENDAR
VERSION:2.0
PRODID:-//ChamberMaster//Event Calendar 2.0//EN
METHOD:PUBLISH
X-PUBLISHED-TTL:P3D
REFRESH-INTERVAL:P3D
CALSCALE:GREGORIAN
BEGIN:VEVENT
DTSTART:20250611T163000Z
DTEND:20250611T180000Z
X-MICROSOFT-CDO-ALLDAYEVENT:FALSE
SUMMARY:June 2025 Power of Networking Lunch at Evie Mae's
DESCRIPTION:Join the Walton Area Chamber of Commerce for our empowering "Power of Networking Lunch" will be held at Evie Mae's Pit Barbecue on June 11\, 2025\, at 11:30 A.M. weather permitting\, we'll be on their beautiful back patio overlooking the lake. Located at 11610 Emerald Coast Pkwy\, Miramar Beach\, Fl this event is designed to energize and inspire our business community. Gather with us for an afternoon of networking\, insight sharing\, and BBQ in one of the most picturesque settings along the Emerald Coast. Don't miss this opportunity to connect with peers and ignite new business opportunities. See you there for a lunch that could launch your next big idea!\n\n\n\nSponsorship opportunities are available for more info email gabrielle@waltonareachamber.com.
X-ALT-DESC;FMTTYPE=text/html:Join the Walton Area Chamber of Commerce for our empowering &quot\;Power of Networking Lunch&quot\;&nbsp\;will be held at <strong>Evie Mae&rsquo\;s Pit Barbecue</strong> on June 11\, 2025\, at 11:30 A.M. weather permitting\, we&rsquo\;ll be on their beautiful back patio overlooking the lake. Located at <span class="OYPEnA font-feature-liga-off font-feature-clig-off font-feature-calt-off text-decoration-none text-strikethrough-none" style="font-weight: 700\; font-kerning: none\;">11610 Emerald Coast Pkwy\, Miramar Beach\, Fl&nbsp\;</span>this event is designed to energize and inspire our business community. Gather with us for an afternoon of networking\, insight sharing\, and BBQ in one of the most picturesque settings along the Emerald Coast. Don&#39\;t miss this opportunity to connect with peers and ignite new business opportunities. See you there for a lunch that could launch your next big idea!<br />\n<br />\nSponsorship opportunities are available for more info email gabrielle@waltonareachamber.com.&nbsp\;&nbsp\;
LOCATION:11610 Emerald Coast Pkwy\, Miramar Beach\, Fl
UID:e.885.55264
SEQUENCE:3
DTSTAMP:20260422T234514Z
URL:https://business.waltonareachamber.com/events/details/june-2025-power-of-networking-lunch-at-evie-mae-s-55264
END:VEVENT

END:VCALENDAR
