BEGIN:VCALENDAR
VERSION:2.0
PRODID:-//ChamberMaster//Event Calendar 2.0//EN
METHOD:PUBLISH
X-PUBLISHED-TTL:P3D
REFRESH-INTERVAL:P3D
CALSCALE:GREGORIAN
BEGIN:VEVENT
DTSTART:20250604T123000Z
DTEND:20250604T140000Z
X-MICROSOFT-CDO-ALLDAYEVENT:FALSE
SUMMARY:June 2025 Wake Up Walton Breakfast sponsored by Walton County Emergency Management
DESCRIPTION:Start your morning with networking\, fresh insights\, and a delicious breakfast buffet at the Wake Up Walton Breakfast\, hosted by the Walton Area Chamber of Commerce and proudly sponsored by Walton County Emergency Management.\n\nDon't be scared be prepared.\n\nThis informative session will equip your business with the tools and knowledge needed to confidently navigate the upcoming hurricane season.\n\n  Date: Wednesday\, June 4\, 2025\n\n  Time: 7:30 A.M.\n\n  Location: Walton County Emergency Management\n\n     75 South Davis Lane\, DeFuniak Springs\, FL 32435\n\nJoin fellow business professionals\, community leaders\, and chamber members for an engaging morning of networking and meaningful discussions. This is a fantastic opportunity to connect\, collaborate\, and stay informed on key topics impacting our business community.\n\n  Don't forget to bring your business cards for networking and a chance to win a door prize!\n\nWe look forward to seeing you there!
X-ALT-DESC;FMTTYPE=text/html:<p data-end="289" data-start="65">Start your morning with networking\, fresh insights\, and a delicious breakfast buffet at the Wake Up Walton Breakfast\, hosted by the Walton Area Chamber of Commerce and proudly sponsored by Walton County Emergency Management.</p>\n\n<p data-end="466" data-start="291"><strong data-end="323" data-start="291">Don&rsquo\;t be scared&mdash\;be prepared.</strong><br data-end="326" data-start="323" />\nThis informative session will equip your business with the tools and knowledge needed to confidently navigate the upcoming hurricane season.</p>\n\n<p data-end="449" data-start="279">&#128197\; <strong data-end="291" data-start="282">Date:</strong> Wednesday\, June 4\, 2025<br data-end="318" data-start="315" />\n&#9200\; <strong data-end="329" data-start="320">Time:</strong> 7:30 A.M.<br data-end="342" data-start="339" />\n&#128205\; <strong data-end="358" data-start="345">Location:</strong> Walton County Emergency Management<br data-end="396" data-start="393" />\n<strong data-end="447" data-start="396">&nbsp\; &nbsp\; &nbsp\;75 South Davis Lane\, DeFuniak Springs\, FL 32435</strong></p>\n\n<p data-end="720" data-start="451">Join fellow business professionals\, community leaders\, and chamber members for an engaging morning of <strong data-end="594" data-start="553">networking and meaningful discussions</strong>. This is a fantastic opportunity to connect\, collaborate\, and stay informed on key topics impacting our business community.</p>\n\n<p data-end="820" data-start="722">&#9989\; <strong data-end="818" data-start="724">Don&rsquo\;t forget to bring your business cards for networking and a chance to win a door prize!</strong></p>\n\n<p data-end="860" data-start="822">We look forward to seeing you there!</p>\n
LOCATION:75 South Davis Lane DeFuniak Springs\, FL
UID:e.885.54957
SEQUENCE:3
DTSTAMP:20260422T234429Z
URL:https://business.waltonareachamber.com/events/details/june-2025-wake-up-walton-breakfast-sponsored-by-walton-county-emergency-management-54957
END:VEVENT

END:VCALENDAR
