BEGIN:VCALENDAR
VERSION:2.0
PRODID:-//ChamberMaster//Event Calendar 2.0//EN
METHOD:PUBLISH
X-PUBLISHED-TTL:P3D
REFRESH-INTERVAL:P3D
CALSCALE:GREGORIAN
BEGIN:VEVENT
DTSTART:20250722T230000Z
DTEND:20250723T020000Z
X-MICROSOFT-CDO-ALLDAYEVENT:FALSE
SUMMARY:Karaoke Night at Papa Surf
DESCRIPTION:Ready to take the stage? Join us for Karaoke Night at Papa Surf Burger Bar! Grab the mic\, sing your heart out\, and enjoy great food and drinks while cheering on your friends. Whether you're a karaoke pro or just here for fun\, it's a night you won't want to miss!
X-ALT-DESC;FMTTYPE=text/html:<span style="color:rgb(0\, 0\, 0)\; font-size:medium">Ready to take the stage? Join us for Karaoke Night at Papa Surf Burger Bar! Grab the mic\, sing your heart out\, and enjoy great food and drinks while cheering on your friends. Whether you&#39\;re a karaoke pro or just here for fun\, it&#39\;s a night you won&#39\;t want to miss!</span>
LOCATION:4324 W County HWY 30A Santa Rosa Beach\, FL 32459
UID:e.885.55295
SEQUENCE:3
DTSTAMP:20260422T222431Z
URL:https://business.waltonareachamber.com/events/details/karaoke-night-at-papa-surf-07-22-2025-55295
END:VEVENT

END:VCALENDAR
