BEGIN:VCALENDAR
VERSION:2.0
PRODID:-//ChamberMaster//Event Calendar 2.0//EN
METHOD:PUBLISH
X-PUBLISHED-TTL:P3D
REFRESH-INTERVAL:P3D
CALSCALE:GREGORIAN
BEGIN:VEVENT
DTSTART:20190610T123000Z
DTEND:20190620T220000Z
X-MICROSOFT-CDO-ALLDAYEVENT:FALSE
SUMMARY:Kids on Campus Session One
DESCRIPTION:Kids on Campus is a unique opportunity for summer enrichment and fun learning in a college environment. Students choose from a variety of classes such as: athletics\, hands-on science\, fine & performing arts\, academics\, and visual arts.  Students create their own schedule and can choose morning\, afternoon or all day classes.  Extended care is available in the mornings and/or afternoons.  Kids on Campus is open to students entering 3rd   8th grades.  Campus are offered every June and July\, with each camp running Monday   Thursday for two weeks.
X-ALT-DESC;FMTTYPE=text/html:<span style="font-size:14px\;"><span style="font-family:arial\;">Kids on Campus is a unique opportunity for summer enrichment and fun learning in a college environment. Students choose from a variety of classes such as: athletics\, hands-on science\, fine &amp\; performing arts\, academics\, and visual arts.&nbsp\; Students create their own schedule and can choose morning\, afternoon or all day classes.&nbsp\; Extended care is available in the mornings and/or afternoons.&nbsp\; Kids on Campus is open to students entering 3<span style="box-sizing: inherit\; line-height: 0\; position: relative\; vertical-align: baseline\; top: -0.5em\; width: 65%\;">rd</span>&nbsp\;&ndash\; 8<span style="box-sizing: inherit\; line-height: 0\; position: relative\; vertical-align: baseline\; top: -0.5em\; width: 65%\;">th</span>&nbsp\;grades.&nbsp\; Campus are offered every June and July\, with each camp running Monday &ndash\; Thursday for two weeks.</span></span>
LOCATION:Northwest Florida State College Campuses in: Niceville\, Ft. Walton Beach\, South Walton\, Crestview\, and DeFuniak Springs.
UID:e.885.23627
SEQUENCE:3
DTSTAMP:20260424T224750Z
URL:https://business.waltonareachamber.com/events/details/kids-on-campus-session-one-23627
END:VEVENT

END:VCALENDAR
