BEGIN:VCALENDAR
VERSION:2.0
PRODID:-//ChamberMaster//Event Calendar 2.0//EN
METHOD:PUBLISH
X-PUBLISHED-TTL:P3D
REFRESH-INTERVAL:P3D
CALSCALE:GREGORIAN
BEGIN:VEVENT
DTSTART:20210519T200000Z
DTEND:20210520T000000Z
X-MICROSOFT-CDO-ALLDAYEVENT:FALSE
SUMMARY:LandrumHR Job Fair 5/19
DESCRIPTION:Join us Wednesday\, May 19 for our job fair at 6715 Plantation Rd\, Pensacola\, Florida\, from 3 p.m. to 7 p.m.! We have full-time positions and flexible shifts available across a wide range of industries. \n\nCandidates should be prepared to complete an application and will need to bring two forms of qualifying ID for the Federal I-9 form. Hiring may be completed on site at hiring event!\n\nLandrumHR offers referral bonuses\, health insurance and matching 401(k). Call 850-308-7015 or visit www.landrumhr.com/jobs for more information.\n\n\n\n\nThere will be indoor and outdoor intake areas and mask wearing is strongly encouraged. #jobfair #jobsearch2021 #gethired #PensacolaJobs #gulfcoastjobs
X-ALT-DESC;FMTTYPE=text/html:<p><span style="font-size:14px\;"><span style="font-family:arial\;">Join us Wednesday\, May 19 for&nbsp\;our job fair at 6715 Plantation Rd\, Pensacola\, Florida\,&nbsp\;from 3 p.m. to 7 p.m.! We have full-time positions and flexible shifts available across a wide range of industries.&nbsp\;</span></span></p>\n\n<p><span style="font-size:14px\;"><span style="font-family:arial\;">Candidates should be prepared to complete an application and will need to bring two forms of qualifying ID for the Federal I-9 form. Hiring may be completed on site at hiring event!</span></span></p>\n\n<p><span style="font-size:14px\;"><span style="font-family:arial\;">LandrumHR offers referral bonuses\, health insurance and matching 401(k).&nbsp\;Call 850-308-7015 or visit&nbsp\;<a href="http://www.landrumhr.com/jobs" rel="noopener noreferrer" style="box-sizing: inherit\; background: transparent\; color: rgb(51\, 151\, 255)\; margin: 0px\; padding: 0px\; border: 0px\; vertical-align: baseline\; outline: none !important\;" target="_blank" title="">www.landrumhr.com/jobs</a>&nbsp\;for more information.</span></span></p>\n\n<ul>\n</ul>\n\n<p><span style="font-size:14px\;"><span style="font-family:arial\;">There will be indoor and outdoor intake areas and mask wearing is strongly encouraged.&nbsp\;<a href="https://www.linkedin.com/feed/hashtag/?keywords=jobfair&amp\;highlightedUpdateUrns=urn%3Ali%3Aactivity%3A6754426834294771713" rel="noopener noreferrer" style="box-sizing: inherit\; background: transparent\; color: rgb(51\, 151\, 255)\; margin: 0px\; padding: 0px\; border: 0px\; vertical-align: baseline\; outline: none !important\;" target="_blank">#jobfair</a>&nbsp\;<a href="https://www.linkedin.com/feed/hashtag/?keywords=jobsearch2021&amp\;highlightedUpdateUrns=urn%3Ali%3Aactivity%3A6754426834294771713" rel="noopener noreferrer" style="box-sizing: inherit\; background: transparent\; color: rgb(51\, 151\, 255)\; margin: 0px\; padding: 0px\; border: 0px\; vertical-align: baseline\; outline: none !important\;" target="_blank">#jobsearch2021</a>&nbsp\;<a href="https://www.linkedin.com/feed/hashtag/?keywords=gethired&amp\;highlightedUpdateUrns=urn%3Ali%3Aactivity%3A6754426834294771713" rel="noopener noreferrer" style="box-sizing: inherit\; background: transparent\; color: rgb(51\, 151\, 255)\; margin: 0px\; padding: 0px\; border: 0px\; vertical-align: baseline\; outline: none !important\;" target="_blank">#gethired</a>&nbsp\;<a href="https://www.linkedin.com/feed/hashtag/?keywords=pensacolajobs&amp\;highlightedUpdateUrns=urn%3Ali%3Aactivity%3A6754426834294771713" rel="noopener noreferrer" style="box-sizing: inherit\; background: transparent\; color: rgb(51\, 151\, 255)\; margin: 0px\; padding: 0px\; border: 0px\; vertical-align: baseline\; outline: none !important\;" target="_blank">#PensacolaJobs</a>&nbsp\;<a href="https://www.linkedin.com/feed/hashtag/?keywords=gulfcoastjobs&amp\;highlightedUpdateUrns=urn%3Ali%3Aactivity%3A6754426834294771713" rel="noopener noreferrer" style="box-sizing: inherit\; background: transparent\; color: rgb(51\, 151\, 255)\; margin: 0px\; padding: 0px\; border: 0px\; vertical-align: baseline\; outline: none !important\;" target="_blank">#gulfcoastjobs</a></span></span></p>\n
LOCATION:6715 Plantation Rd\, Pensacola\, Florida 32504
UID:e.885.31101
SEQUENCE:3
DTSTAMP:20260422T142736Z
URL:https://business.waltonareachamber.com/events/details/landrumhr-job-fair-5-19-31101
END:VEVENT

END:VCALENDAR
