BEGIN:VCALENDAR
VERSION:2.0
PRODID:-//ChamberMaster//Event Calendar 2.0//EN
METHOD:PUBLISH
X-PUBLISHED-TTL:P3D
REFRESH-INTERVAL:P3D
CALSCALE:GREGORIAN
BEGIN:VEVENT
DTSTART:20220516T223000Z
DTEND:20220517T003000Z
X-MICROSOFT-CDO-ALLDAYEVENT:FALSE
SUMMARY:Leadership Walton Class of 2021-22 Graduation Dinner
DESCRIPTION:Join us to celebrate the 2021-22 Leadership Walton Class!\n\nRegistration begins at 5:00 p.m. and the program starts at 5:30 p.m.
X-ALT-DESC;FMTTYPE=text/html:<span style="font-size:36px\;"><span style="font-family:arial\;"><span style="color:#000080\;"><strong style="color: rgb(51\, 51\, 51)\; font-family: sans-serif\, Arial\, Verdana\, &quot\;Trebuchet MS&quot\;\; font-size: 22px\;"><span style="font-size:48px\;">Join us to celebrate the 2021-22 Leadership Walton Class!</span></strong><br />\n<strong style="color: rgb(51\, 51\, 51)\; font-family: sans-serif\, Arial\, Verdana\, &quot\;Trebuchet MS&quot\;\; background-color: rgb(255\, 255\, 255)\; font-size: 24px\; text-align: center\;" trebuchet="">Registration begins at 5:00 p.m. and the program starts at 5:30 p.m.&nbsp\;</strong></span></span></span>
LOCATION:Sunset Bay Cafe
UID:e.885.33591
SEQUENCE:3
DTSTAMP:20260423T143045Z
URL:https://business.waltonareachamber.com/events/details/leadership-walton-class-of-2021-22-graduation-dinner-33591
END:VEVENT

END:VCALENDAR
