BEGIN:VCALENDAR
VERSION:2.0
PRODID:-//ChamberMaster//Event Calendar 2.0//EN
METHOD:PUBLISH
X-PUBLISHED-TTL:P3D
REFRESH-INTERVAL:P3D
CALSCALE:GREGORIAN
BEGIN:VEVENT
DTSTART:20210614T223000Z
DTEND:20210615T000000Z
X-MICROSOFT-CDO-ALLDAYEVENT:FALSE
SUMMARY:Leadership Walton Graduation Class of 2020/21
DESCRIPTION:Join us to celebrate the 2020-21 Leadership Walton Class. Registration begins at 5:00 p.m. and the program starts at 5:30 p.m. Former Member of Florida House of Representatives\, Mel Ponder\, is the guest speaker. \n\n\n\n\nMenu:\nAssorted Field Greens Salad with Sundried Tomato Vinaigrette\n\nBone-in Chicken Breast over Cheese Tortellini with a Pesto Cream\, roasted Tomatoes and Mushrooms\n\nKey Lime Pie
X-ALT-DESC;FMTTYPE=text/html:<strong style="font-size: 22px\;">Join us to celebrate the 2020-21 Leadership Walton Class</strong>.&nbsp\;<strong style="font-family: sans-serif\, Arial\, Verdana\, &quot\;Trebuchet MS&quot\;\; font-size: 24px\; text-align: center\; background-color: rgb(255\, 255\, 255)\; color: rgb(51\, 51\, 51)\;" trebuchet="">Registration begins at 5:00 p.m. and the program starts at 5:30 p.m. Former Member of Florida House of Representatives\, Mel Ponder\, is the guest speaker.&nbsp\;</strong>\n<div class="a1vOw BY2RHc fPcAld i49rzb" id="mh_tsuid64" style="flex: 1 1 0%\; min-width: 0px\; overflow-wrap: break-word\; padding: 12px 0px\; color: rgb(32\, 33\, 36)\; font-family: Roboto\, arial\, sans-serif\; font-size: 14px\; background-color: rgb(255\, 255\, 255)\;">\n<div class="Hhmu2e wDYxhc NFQFxe viOShc LKPcQc" data-hveid="CCwQAA" data-md="16" data-ved="2ahUKEwjs3pWjltnwAhVJZc0KHWffAtkQhygwFnoECCwQAA" lang="en-US" style="clear: none\;">\n<div class="Ftghae" style="padding-left: 15px\; padding-right: 15px\; margin-top: 0px\;">\n<div class="SPZz6b">\n<div class="wwUB2c PZPZlf" data-attrid="subtitle" style="margin: 4px 0px\; overflow: hidden\; color: rgb(112\, 117\, 122)\;"><span style="font-family:arial\;"><span style="font-size:28px\;">Menu:</span></span>\n<p class="xmsonormal">Assorted Field Greens Salad with Sundried Tomato Vinaigrette<o:p></o:p></p>\n\n<p class="xmsonormal">Bone-in Chicken Breast over Cheese Tortellini with a Pesto Cream\, roasted Tomatoes and Mushrooms<o:p></o:p></p>\n\n<p class="xmsonormal">Key Lime Pie<o:p></o:p></p>\n\n<p class="xmsonormal">&nbsp\;<o:p></o:p></p>\n</div>\n</div>\n</div>\n</div>\n</div>\n\n<div class="FZylgf" style="color: rgb(32\, 33\, 36)\; font-family: Roboto\, arial\, sans-serif\; font-size: 14px\; background-color: rgb(255\, 255\, 255)\;">\n<div class="eoNQle wDYxhc NFQFxe DVGBBd RsqAUb" jsaction="PdWSXe:h5M12e\;rcuQ6b:npT2md" jscontroller="IkchZc" jsdata="X2sNs\;_\;Ah9qFo" jsmodel="O1a5H" jsshadow="" style="overflow: hidden\; align-items: center\; display: flex\; height: 96px\; max-width: 160px\; clear: both\; min-height: 160px\;">\n<div jsslot="">&nbsp\;</div>\n</div>\n</div>\n\n<div style="text-align: center\;"><br />\n<br />\n&nbsp\;</div>\n
LOCATION:Sandcastles inside of Hilton Sandestin Beach Golf Resort & Spa 4000 Sandestin Blvd S\, Miramar Beach\, FL 32550
UID:e.885.31915
SEQUENCE:3
DTSTAMP:20260422T200524Z
URL:https://business.waltonareachamber.com/events/details/leadership-walton-graduation-class-of-2020-21-31915
END:VEVENT

END:VCALENDAR
