BEGIN:VCALENDAR
VERSION:2.0
PRODID:-//ChamberMaster//Event Calendar 2.0//EN
METHOD:PUBLISH
X-PUBLISHED-TTL:P3D
REFRESH-INTERVAL:P3D
CALSCALE:GREGORIAN
BEGIN:VEVENT
DTSTART:20211111T230000Z
DTEND:20211112T010000Z
X-MICROSOFT-CDO-ALLDAYEVENT:FALSE
SUMMARY:Learning to Lead with Mike Ragsdale 30A Founder presented by Young Professionals of Walton County
DESCRIPTION:Includes a glass of wine from 30A wine
X-ALT-DESC;FMTTYPE=text/html:Includes a glass of wine from 30A wine
LOCATION:Beach Happy Cafe
UID:e.885.32629
SEQUENCE:3
DTSTAMP:20260423T063755Z
URL:https://business.waltonareachamber.com/events/details/learning-to-lead-with-mike-ragsdale-30a-founder-presented-by-young-professionals-of-walton-county-32629
END:VEVENT

END:VCALENDAR
