BEGIN:VCALENDAR
VERSION:2.0
PRODID:-//ChamberMaster//Event Calendar 2.0//EN
METHOD:PUBLISH
X-PUBLISHED-TTL:P3D
REFRESH-INTERVAL:P3D
CALSCALE:GREGORIAN
BEGIN:VEVENT
DTSTART:20210712T223000Z
DTEND:20210713T013000Z
X-MICROSOFT-CDO-ALLDAYEVENT:FALSE
SUMMARY:Legendary Marine Destin's Coastal Distancing Tour
DESCRIPTION:Hall of Fame Dealer Legendary Marine will host a three-event entertainment series on the water from August to October. Titled Coastal Distancing   Boat\, Movie & Music Tour the series will provide entertainment on the water within the Choctawhatchee Bay area including a pre-show special featuring local live music followed by a featured movie each month. Partnering with Legendary Marine on this community event is Amazing Lash Studio\, Proffitt PR\, and music sponsor Step One Automotive Group. These events are free and open to the public to attend by boat.\n\nThis event provides an opportunity for all boaters to enjoy live entertainment aboard their vessel with their family alongside fellow boating friends and family. The event will kick-off on Saturday\, August 15th\, with live music by Cadillac Willy at 6pm followed by the movie Pirates of the Caribbean at 7pm. The movie will be displayed on a 60-foot television screen on Crab Island courtesy of Splashboards Media.\n\nThe entertainment series continues Saturday\, September 12th and Saturday\, October 10th. Locations and entertainment details can be found on Legendary Marine Facebook events page and website events calendar\, as they are confirmed.\n\nEach event will include a fundraising aspect to support three amazing local charities: Food for Thought Outreach\, Emerald Coast Honor Games\, and Emerald Coast Autism Center. Additional Sponsorship opportunities are available for other local businesses. Contact events@legendarymarine.com for more information.
X-ALT-DESC;FMTTYPE=text/html:<div class="kvgmc6g5 cxmmr5t8 oygrvhab hcukyx3x c1et5uql" style="overflow-wrap: break-word\; margin: 0px\; font-family: &quot\;Segoe UI Historic&quot\;\, &quot\;Segoe UI&quot\;\, Helvetica\, Arial\, sans-serif\; color: rgb(5\, 5\, 5)\; font-size: 15px\;">Hall of Fame Dealer Legendary Marine will host a three-event <span style="font-family:arial\;">entertainment series on the water from August to October. Titled Coastal Distancing &ndash\; Boat\, Movie &amp\; Music Tour the series will provide entertainment on the water within the Choctawhatchee Bay area including a pre-show special featuring local live music followed by a featured movie each month. Partnering with Legendary Marine on this community event is Amazing Lash Studio\, Proffitt PR\, and music sponsor Step One Automotive Group. These events are free and open to the public to attend by boat.</span></div>\n\n<div class="o9v6fnle cxmmr5t8 oygrvhab hcukyx3x c1et5uql" style="overflow-wrap: break-word\; margin: 0.5em 0px 0px\; font-family: &quot\;Segoe UI Historic&quot\;\, &quot\;Segoe UI&quot\;\, Helvetica\, Arial\, sans-serif\; color: rgb(5\, 5\, 5)\; font-size: 15px\;"><span style="font-family:arial\;">This event provides an opportunity for all boaters to enjoy live entertainment aboard their vessel with their family alongside fellow boating friends and family. The event will kick-off on Saturday\, August 15th\, with live music by Cadillac Willy at 6pm followed by the movie Pirates of the Caribbean at 7pm. The movie will be displayed on a 60-foot television screen on Crab Island courtesy of Splashboards Media.</span></div>\n\n<div class="o9v6fnle cxmmr5t8 oygrvhab hcukyx3x c1et5uql" style="overflow-wrap: break-word\; margin: 0.5em 0px 0px\; font-family: &quot\;Segoe UI Historic&quot\;\, &quot\;Segoe UI&quot\;\, Helvetica\, Arial\, sans-serif\; color: rgb(5\, 5\, 5)\; font-size: 15px\;"><span style="font-family:arial\;">The entertainment series continues Saturday\, September 12th and Saturday\, October 10th. Locations and entertainment details can be found on Legendary Marine Facebook events page and website events calendar\, as they are confirmed.</span></div>\n\n<div class="o9v6fnle cxmmr5t8 oygrvhab hcukyx3x c1et5uql" style="overflow-wrap: break-word\; margin: 0.5em 0px 0px\; font-family: &quot\;Segoe UI Historic&quot\;\, &quot\;Segoe UI&quot\;\, Helvetica\, Arial\, sans-serif\; color: rgb(5\, 5\, 5)\; font-size: 15px\;"><span style="font-family:arial\;">Each event will include a fundraising aspect to support three amazing local charities: Food for Thought Outreach\, Emerald Coast Honor Games\, and Emerald Coast Autism Center. Additional Sponsorship opportunities are available for other local businesses. Contact events@legendarymarine.com for more information.</span></div>\n
LOCATION:Legendary Marine Destin
UID:e.885.27656
SEQUENCE:3
DTSTAMP:20260422T215040Z
URL:https://business.waltonareachamber.com/events/details/legendary-marine-destin-s-coastal-distancing-tour-07-12-2021-27656
END:VEVENT

END:VCALENDAR
