BEGIN:VCALENDAR
VERSION:2.0
PRODID:-//ChamberMaster//Event Calendar 2.0//EN
METHOD:PUBLISH
X-PUBLISHED-TTL:P3D
REFRESH-INTERVAL:P3D
CALSCALE:GREGORIAN
BEGIN:VEVENT
DTSTART:20210425T180000Z
DTEND:20210425T230000Z
X-MICROSOFT-CDO-ALLDAYEVENT:FALSE
SUMMARY:Legendary Marine's Pigs on the Beach
DESCRIPTION:Join Legendary Marine and Nick's Seafood Restaurant by HOOF or by BOAT on Sunday\, April 25th from 1-6 p.m. at Nick's Seafood Restaurant! Nick's and Legendary Marine have teamed up for an outdoor raft-up and crawfish boil. We'll also have live music by the Velcro Pygmies! Don't miss this afternoon of music\, crawfish\, and fun! RSVP here: http://bit.ly/beachpigs21
X-ALT-DESC;FMTTYPE=text/html:<span style="font-size:14px\;"><span style="font-family:arial\;">Join Legendary Marine and Nick&#39\;s Seafood Restaurant<span style="color: rgb(5\, 5\, 5)\;">&nbsp\;by HOOF or by BOAT on Sunday\, April 25th from 1-6 p.m. at Nick&#39\;s Seafood Restaurant! Nick&#39\;s and Legendary Marine have teamed up for an outdoor raft-up and crawfish boil. We&#39\;ll also have live music by the Velcro Pygmies! Don&#39\;t miss this afternoon of music\, crawfish\, and fun! RSVP here:&nbsp\;</span><span style="color: rgb(5\, 5\, 5)\;"><a class="oajrlxb2 g5ia77u1 qu0x051f esr5mh6w e9989ue4 r7d6kgcz rq0escxv nhd2j8a9 nc684nl6 p7hjln8o kvgmc6g5 cxmmr5t8 oygrvhab hcukyx3x jb3vyjys rz4wbd8a qt6c0cv9 a8nywdso i1ao9s8h esuyzwwr f1sip0of lzcic4wl py34i1dx gpro0wi8" href="https://bit.ly/beachpigs21?fbclid=IwAR3GYB6kyqXcd1srU287sNSwoBCCKqOYjrQqzmpSmJUJH6JdivErluE3Mdg" rel="nofollow noopener" role="link" style="color: var(--blue-link)\; cursor: pointer\; text-decoration-line: none\; outline: none\; list-style: none\; border-width: 0px\; border-style: initial\; border-color: initial\; padding: 0px\; margin: 0px\; touch-action: manipulation\; background-color: transparent\; text-align: inherit\; display: inline\; -webkit-tap-highlight-color: transparent\; box-sizing: border-box\; font-family: inherit\;" tabindex="0" target="_blank">http://bit.ly/beachpigs21</a></span></span></span>
LOCATION:
UID:e.885.30048
SEQUENCE:3
DTSTAMP:20260422T124948Z
URL:https://business.waltonareachamber.com/events/details/legendary-marine-s-pigs-on-the-beach-30048
END:VEVENT

END:VCALENDAR
