BEGIN:VCALENDAR
VERSION:2.0
PRODID:-//ChamberMaster//Event Calendar 2.0//EN
METHOD:PUBLISH
X-PUBLISHED-TTL:P3D
REFRESH-INTERVAL:P3D
CALSCALE:GREGORIAN
BEGIN:VEVENT
DTSTART;VALUE=DATE:20230307
DTEND;VALUE=DATE:20230309
TRANSP:TRANSPARENT
X-MICROSOFT-CDO-ALLDAYEVENT:TRUE
SUMMARY:Level Up Emerald Coast
DESCRIPTION:Entrepreneur Business Conference Emerald Coast's Most Exciting Speaker Lineup ?? Get inspired by industry leaders!!! Every entrepreneur and business professional needs a little help to bring their business and life to a new level. LevelUp Emerald Coast will be featuring two renowned keynote speakers   Jeff Hoffman and Dave Clare! Both bring a wealth of knowledge and experience to the event. www.JeffHoffman.com & www.DaveClare.com Plus 20+ other speakers!! ? Marketing Insights We will provide new Marketing insights\, tools & technology that help create efficiencies\, generate new income potentials\, and drive brand awareness. The attendees will gain new insight and learn how to leverage their influence and authority in their perspective industries. ? Sales Strategies and Tactics We will provide "World Class" Sales Strategies and Tactics to help LEVEL UP Sales teams and/or individuals to the top of their game. ? Raising Capital We will provide effective strategies for Raising Capital and getting the attention of Investors. ? Personal Development We will provide the opportunity to LEVEL UP Personal Development and help inspire and motivate individuals to play a new game while being focused on improving all aspects of life. Don't miss this World-Class Business Event right here at the beach!!! Grab your ticket\, 3 levels of experience!!! www.LevelUpEmeraldCoast.com
X-ALT-DESC;FMTTYPE=text/html:Entrepreneur Business Conference Emerald Coast&rsquo\;s Most Exciting Speaker Lineup ?? Get inspired by industry leaders!!! Every entrepreneur and business professional needs a little help to bring their business and life to a new level. LevelUp Emerald Coast will be featuring two renowned keynote speakers &ndash\; Jeff Hoffman and Dave Clare! Both bring a wealth of knowledge and experience to the event. www.JeffHoffman.com &amp\; www.DaveClare.com Plus 20+ other speakers!! ? Marketing Insights We will provide new Marketing insights\, tools &amp\; technology that help create efficiencies\, generate new income potentials\, and drive brand awareness. The attendees will gain new insight and learn how to leverage their influence and authority in their perspective industries. ? Sales Strategies and Tactics We will provide &ldquo\;World Class&rdquo\; Sales Strategies and Tactics to help LEVEL UP Sales teams and/or individuals to the top of their game. ? Raising Capital We will provide effective strategies for Raising Capital and getting the attention of Investors. ? Personal Development We will provide the opportunity to LEVEL UP Personal Development and help inspire and motivate individuals to play a new game while being focused on improving all aspects of life. Don&rsquo\;t miss this World-Class Business Event right here at the beach!!! Grab your ticket\, 3 levels of experience!!! www.LevelUpEmeraldCoast.com
LOCATION:Distillery 98 835 Serenoa Rd\, Santa Rosa Beach\, FL 32459
UID:e.885.34288
SEQUENCE:3
DTSTAMP:20260424T051723Z
URL:https://business.waltonareachamber.com/events/details/level-up-emerald-coast-34288
END:VEVENT

END:VCALENDAR
