BEGIN:VCALENDAR
VERSION:2.0
PRODID:-//ChamberMaster//Event Calendar 2.0//EN
METHOD:PUBLISH
X-PUBLISHED-TTL:P3D
REFRESH-INTERVAL:P3D
CALSCALE:GREGORIAN
BEGIN:VEVENT
DTSTART:20211115T173000Z
DTEND:20211115T190000Z
X-MICROSOFT-CDO-ALLDAYEVENT:FALSE
SUMMARY:Life Insurance Workshop – Sponsored by James Sater State Farm Give Thanks - Here to Help Life Go Right
DESCRIPTION:Life Insurance Workshop   Sponsored by James\n\nSater State Farm\n\nGive Thanks   Here to Help Life Go Right\n\n\n\nJoin James Sater with James Sater State Farm for a lunch and learn workshop where he will be teaching you about life changes\, and how to adapt your life insurance needs.  Our lives are constantly changing\, and these changes alter your financial situation as well as your need for life insurance protection.  Providing a sense of security is one of the primary purposes of life insurance\, and James will cover how Reliable Protection\, Affordability\, Flexibility\, and Customized Coverage options at State Farm can help you and your loved ones at the right time of need.  You don't want to miss this event!
X-ALT-DESC;FMTTYPE=text/html:<strong><span style="font-family:arial\;">Life Insurance Workshop &ndash\; Sponsored by James<br />\nSater State Farm<br />\nGive Thanks &ndash\; Here to Help Life Go Right</span></strong><br />\n<br />\n<span style="font-size:12.0pt\;">Join James Sater with James Sater State Farm for a lunch and learn workshop where he will be teaching you about life changes\, and how to adapt your life insurance needs.&nbsp\; Our lives are constantly changing\, and these changes alter your financial situation as well as your need for life insurance protection.&nbsp\; Providing a sense of security is one of the primary purposes of life insurance\, and James will cover how <u>Reliable Protection</u>\, <u>Affordability</u>\, <u>Flexibility</u>\, and <u>Customized Coverage</u> options at State Farm can help you and your loved ones at the right time of need.&nbsp\; You don&#39\;t want to miss this event!&nbsp\;</span><br />\n&nbsp\;
LOCATION:Walton Area Chamber Of Commerce 63 S Centre Trail Santa Rosa Beach\, FL 32459
UID:e.885.32603
SEQUENCE:3
DTSTAMP:20260423T044218Z
URL:https://business.waltonareachamber.com/events/details/life-insurance-workshop-sponsored-by-james-sater-state-farm-give-thanks-here-to-help-life-go-right-32603
END:VEVENT

END:VCALENDAR
