BEGIN:VCALENDAR
VERSION:2.0
PRODID:-//ChamberMaster//Event Calendar 2.0//EN
METHOD:PUBLISH
X-PUBLISHED-TTL:P3D
REFRESH-INTERVAL:P3D
CALSCALE:GREGORIAN
BEGIN:VEVENT
DTSTART:20240808T233000Z
DTEND:20240809T023000Z
X-MICROSOFT-CDO-ALLDAYEVENT:FALSE
SUMMARY:Little Black Dress Night
DESCRIPTION:Smooth Jazz sounds from Local Legend Ike! Champagne Flights and 1/2 priced Featured Very Sexy Martini
X-ALT-DESC;FMTTYPE=text/html:Smooth Jazz sounds from Local Legend Ike! Champagne Flights and 1/2 priced Featured Very Sexy Martini
LOCATION:Marina Cafe 404 Harbor blvd Destin\, FL 32541
UID:e.885.43810
SEQUENCE:3
DTSTAMP:20260425T170624Z
URL:https://business.waltonareachamber.com/events/details/little-black-dress-night-08-08-2024-43810
END:VEVENT

END:VCALENDAR
