BEGIN:VCALENDAR
VERSION:2.0
PRODID:-//ChamberMaster//Event Calendar 2.0//EN
METHOD:PUBLISH
X-PUBLISHED-TTL:P3D
REFRESH-INTERVAL:P3D
CALSCALE:GREGORIAN
BEGIN:VEVENT
DTSTART:20250619T230000Z
DTEND:20250620T020000Z
X-MICROSOFT-CDO-ALLDAYEVENT:FALSE
SUMMARY:Live Music @ Papa Surf: Lips Manly
DESCRIPTION:Come relax on the Magnolia Patio\, enjoy live music\, delicious food\, and our incredible cocktail menu! Kick off your weekend at Papa Surf Burger Bar   we can't wait to see you! Lips Manly will be playing Thursday\, 6 - 8 PM!\n\nWe are open 6 days a week 11AM - 8PM!
X-ALT-DESC;FMTTYPE=text/html:<p><span style="background-color:transparent\; color:rgb(20\, 22\, 24)\; font-family:arial\,sans-serif\; font-size:11.5pt">Come relax on the Magnolia Patio\, enjoy live music\, delicious food\, and our incredible cocktail menu! Kick off your weekend at Papa Surf Burger Bar &mdash\; we can&#39\;t wait to see you! Lips Manly will be playing </span><strong>Thursday\, 6&nbsp\;- 8 PM!</strong></p>\n\n<p><span style="background-color:transparent\; color:rgb(20\, 22\, 24)\; font-family:arial\,sans-serif\; font-size:11.5pt">We are open 6 days a week 11AM - 8PM!</span></p>\n\n<div>&nbsp\;</div>\n
LOCATION:
UID:e.885.55299
SEQUENCE:3
DTSTAMP:20260422T235000Z
URL:https://business.waltonareachamber.com/events/details/live-music-papa-surf-lips-manly-55299
END:VEVENT

END:VCALENDAR
