BEGIN:VCALENDAR
VERSION:2.0
PRODID:-//ChamberMaster//Event Calendar 2.0//EN
METHOD:PUBLISH
X-PUBLISHED-TTL:P3D
REFRESH-INTERVAL:P3D
CALSCALE:GREGORIAN
BEGIN:VEVENT
DTSTART:20220212T210000Z
DTEND:20220212T230000Z
X-MICROSOFT-CDO-ALLDAYEVENT:FALSE
SUMMARY:Love & Football: A Dog Promenade
DESCRIPTION:Love dogs? Love football? The two are made for each other Dog-Harmony's "Love and Football" event from 3 p.m. to 5 p.m. Feb. 12 at Grand Boulevard. In honor of Super Bowl LVI\, dress up your dog in a favorite football team's uniform and advance down the field in Grand Park. For a $10 entry fee\, you'll be the "receiver" of a professional photograph and have a chance to score prizes in two weight categories for Best Dressed\, Most Creative and Most Enthusiastic. Plus\, what would a football party be without beer and food? Dog-Harmony Ale from Destin Brewery will be on tap and JC's Gourmet will be serving Somethin' Snappy smoked snapper dip\, Poppin' Pimento cheese and Jommin' Jalape os candied jalape o garnish. You also can check out brand-new cars powered by Step One Automotive Group.
X-ALT-DESC;FMTTYPE=text/html:Love dogs? Love football? The two are made for each other Dog-Harmony&rsquo\;s &ldquo\;Love and Football&rdquo\; event from 3 p.m. to 5 p.m. Feb. 12 at Grand Boulevard. In honor of Super Bowl LVI\, dress up your dog in a favorite football team&rsquo\;s uniform and advance down the field in Grand Park. For a $10 entry fee\, you&rsquo\;ll be the &ldquo\;receiver&rdquo\; of a professional photograph and have a chance to score prizes in two weight categories for Best Dressed\, Most Creative and Most Enthusiastic. Plus\, what would a football party be without beer and food? Dog-Harmony Ale from Destin Brewery will be on tap and JC&rsquo\;s Gourmet will be serving Somethin&#39\; Snappy smoked snapper dip\, Poppin&#39\; Pimento cheese and Jommin&rsquo\; Jalape&ntilde\;os candied jalape&ntilde\;o garnish. You also can check out brand-new cars powered by Step One Automotive Group.
LOCATION:Grand Park in Grand Boulevard at Sandestin
UID:e.885.33315
SEQUENCE:3
DTSTAMP:20260423T095206Z
URL:https://business.waltonareachamber.com/events/details/love-football-a-dog-promenade-33315
END:VEVENT

END:VCALENDAR
