BEGIN:VCALENDAR
VERSION:2.0
PRODID:-//ChamberMaster//Event Calendar 2.0//EN
METHOD:PUBLISH
X-PUBLISHED-TTL:P3D
REFRESH-INTERVAL:P3D
CALSCALE:GREGORIAN
BEGIN:VEVENT
DTSTART:20220505T170000Z
DTEND:20220505T180000Z
X-MICROSOFT-CDO-ALLDAYEVENT:FALSE
SUMMARY:LUNCH-N-LEARN INVITATION
DESCRIPTION:Join Bil Sadler \, CPA\, CFA of LPL Financial for a LUNCH-N-LEARN on Retirement Plans for the Self-Employed Real Estate Agent. Lunch catered by 30A Taco!!  You don't want to miss this.\n\n\n\nHave you ever wondered which retirement plans are available to you as a self-employed real estate agent?  And which plans may help you pay less tax?  In this Lunch-N-Learn you'll learn:\n\n-Your options as a self-employed person compared to being an empolyee.\n\n-Your choice of business entities - sole-proprietor\, partnership\, corporation\, S-corporation\, and LLC.\n\n-The big differences between a Traditional IRA and a ROTH IRA and how to select the one that is right for you.\n\n-An overview of the business retirement plans available to you\, and which one may provide the greatest tax advantage.\n\n-How to choose which retirement plan is a good fit for you.
X-ALT-DESC;FMTTYPE=text/html:Join Bil Sadler \, CPA\, CFA of LPL Financial for a LUNCH-N-LEARN on Retirement Plans for the Self-Employed Real Estate Agent. Lunch catered by 30A Taco!!&nbsp\; You don&#39\;t want to miss this.<br />\n<br />\nHave you ever wondered which retirement plans are available to you as a self-employed real estate agent?&nbsp\; And which plans may help you pay less tax?&nbsp\; In this Lunch-N-Learn you&#39\;ll learn:<br />\n-Your options as a self-employed person compared to being an empolyee.<br />\n-Your choice of business entities - sole-proprietor\, partnership\, corporation\, S-corporation\, and LLC.<br />\n-The big differences between a Traditional IRA and a ROTH IRA and how to select the one that is right for you.<br />\n-An overview of the business retirement plans available to you\, and which one may provide the greatest tax advantage.<br />\n-How to choose which retirement plan is a good fit for you.&nbsp\;
LOCATION:Walton Area Chamber Office 63 S Centre Trail Santa Rosa Beach\, FL 32459
UID:e.885.33860
SEQUENCE:3
DTSTAMP:20260423T142643Z
URL:https://business.waltonareachamber.com/events/details/lunch-n-learn-invitation-33860
END:VEVENT

END:VCALENDAR
