BEGIN:VCALENDAR
VERSION:2.0
PRODID:-//ChamberMaster//Event Calendar 2.0//EN
METHOD:PUBLISH
X-PUBLISHED-TTL:P3D
REFRESH-INTERVAL:P3D
CALSCALE:GREGORIAN
BEGIN:VEVENT
DTSTART:20210307T183000Z
DTEND:20210307T220000Z
X-MICROSOFT-CDO-ALLDAYEVENT:FALSE
SUMMARY:Mac & Cheese Festival
DESCRIPTION:Thought macaroni and cheese was just for kids? Think again! Join us at the 3rd Annual Mac & Cheese Festival benefiting the Boys & Girls Clubs of the Emerald Coast on Sunday\, March 7 at the Destin Commons! This family-friendly event will feature gourmet\, chef-inspired twists on the South's favorite comfort food. Local restaurants will compete for the best mac in town. Be there to sample everything for yourself and cast your vote! ? *All proceeds from this event will go to the Boys & Girls Clubs of the Emerald Coast\, which works in our community to promote and enhance the development of boys and girls by instilling a sense of competence\, usefulness\, belonging\, and influence through its programs focused on academic success\, good character and citizenship\, and healthy lifestyles. Sponsorships for this event are available. To learn how your business can be involved\, please contact hello@francesroy.com. Tickets for the event are now available for purchase here.
X-ALT-DESC;FMTTYPE=text/html:Thought macaroni and cheese was just for kids? Think again! Join us at the 3rd Annual Mac &amp\; Cheese Festival benefiting the Boys &amp\; Girls Clubs of the Emerald Coast on Sunday\, March 7 at the Destin Commons! This family-friendly event will feature gourmet\, chef-inspired twists on the South&rsquo\;s favorite comfort food. Local restaurants will compete for the best mac in town. Be there to sample everything for yourself and cast your vote! ? *All proceeds from this event will go to the Boys &amp\; Girls Clubs of the Emerald Coast\, which works in our community to promote and enhance the development of boys and girls by instilling a sense of competence\, usefulness\, belonging\, and influence through its programs focused on academic success\, good character and citizenship\, and healthy lifestyles. Sponsorships for this event are available. To learn how your business can be involved\, please contact hello@francesroy.com. Tickets for the event are now available for purchase here.
LOCATION:Destin Commons
UID:e.885.29086
SEQUENCE:3
DTSTAMP:20260422T110913Z
URL:https://business.waltonareachamber.com/events/details/mac-cheese-festival-03-07-2021-29086
END:VEVENT

END:VCALENDAR
