BEGIN:VCALENDAR
VERSION:2.0
PRODID:-//ChamberMaster//Event Calendar 2.0//EN
METHOD:PUBLISH
X-PUBLISHED-TTL:P3D
REFRESH-INTERVAL:P3D
CALSCALE:GREGORIAN
BEGIN:VEVENT
DTSTART:20211110T140000Z
DTEND:20211110T151500Z
X-MICROSOFT-CDO-ALLDAYEVENT:FALSE
SUMMARY:Main Street Small Business Seminar
DESCRIPTION:Please join us for\n\nMain Street Small Business Seminar
X-ALT-DESC;FMTTYPE=text/html:Please join us for<br />\nMain Street Small Business Seminar<br />\n&nbsp\;
LOCATION:Florida Chautauqua Theatre DeFuniak Springs\, Florida
UID:e.885.32597
SEQUENCE:3
DTSTAMP:20260423T043810Z
URL:https://business.waltonareachamber.com/events/details/main-street-small-business-seminar-32597
END:VEVENT

END:VCALENDAR
