BEGIN:VCALENDAR
VERSION:2.0
PRODID:-//ChamberMaster//Event Calendar 2.0//EN
METHOD:PUBLISH
X-PUBLISHED-TTL:P3D
REFRESH-INTERVAL:P3D
CALSCALE:GREGORIAN
BEGIN:VEVENT
DTSTART:20210325T223000Z
DTEND:20210326T003000Z
X-MICROSOFT-CDO-ALLDAYEVENT:FALSE
SUMMARY:March 2021 Business After Sponsored by Provident Title
DESCRIPTION:Join us for our March Business After Hours hosted and sponsored by Provident Title!
X-ALT-DESC;FMTTYPE=text/html:<span style="font-size:28px\;"><span style="font-family:arial\;">Join us for our March Business After Hours hosted and sponsored by Provident Title!&nbsp\;</span></span>
LOCATION:10343 E. Co. Hwy. 30A Suite 104 Seacrest Beach\, FL 32413 Located in the Village of South Walton in Seacrest Beach
UID:e.885.29131
SEQUENCE:3
DTSTAMP:20260422T110944Z
URL:https://business.waltonareachamber.com/events/details/march-2021-business-after-sponsored-by-provident-title-29131
END:VEVENT

END:VCALENDAR
