BEGIN:VCALENDAR
VERSION:2.0
PRODID:-//ChamberMaster//Event Calendar 2.0//EN
METHOD:PUBLISH
X-PUBLISHED-TTL:P3D
REFRESH-INTERVAL:P3D
CALSCALE:GREGORIAN
BEGIN:VEVENT
DTSTART:20220316T213000Z
DTEND:20220316T233000Z
X-MICROSOFT-CDO-ALLDAYEVENT:FALSE
SUMMARY:March 2022 Business After Hours hosted and sponsored by Watercrest
DESCRIPTION:Please join us for our March 2022 Business After Hours hosted by Watercrest! There will be lots of networking\, live entertainment\, and yummy light bites. Don't forget your business cards and door prizes!
X-ALT-DESC;FMTTYPE=text/html:<span style="font-size:28px\;"><span style="color: rgb(128\, 0\, 0)\; font-family: arial\; text-align: center\;">Please join us for our March</span><span style="color: rgb(128\, 0\, 0)\; font-family: arial\; text-align: center\;">&nbsp\;2022 Business After Hours hosted by Watercrest! There will be lots of networking\, live entertainment\, and yummy light bites. Don&#39\;t forget your business cards and door prizes!</span></span>
LOCATION:Watercrest Senior Living Group 205 W. Hewett Road Santa Rosa Beach\, FL 32459
UID:e.885.33248
SEQUENCE:3
DTSTAMP:20260423T111659Z
URL:https://business.waltonareachamber.com/events/details/march-2022-business-after-hours-hosted-and-sponsored-by-watercrest-33248
END:VEVENT

END:VCALENDAR
