BEGIN:VCALENDAR
VERSION:2.0
PRODID:-//ChamberMaster//Event Calendar 2.0//EN
METHOD:PUBLISH
X-PUBLISHED-TTL:P3D
REFRESH-INTERVAL:P3D
CALSCALE:GREGORIAN
BEGIN:VEVENT
DTSTART:20220304T133000Z
DTEND:20220304T150000Z
X-MICROSOFT-CDO-ALLDAYEVENT:FALSE
SUMMARY:March 2022 First Friday Breakfast at Estelle Studio and Gallery
DESCRIPTION:Register now for the March 2022 First Friday Breakfast!\n\n\n\n"How Career and Technical Education is Building an EPIC Walton County"\n\n\n\nEvery organization seeks to hire individuals that are highly trained\, have credentials that add value to the company\, and can make a positive impact. Join the Walton County CTE Director for an interactive discussion on how Career and Technical Education can benefit your organization.
X-ALT-DESC;FMTTYPE=text/html:<span style="font-size:36px\;">Register now for the March 2022 First Friday Breakfast!</span><br />\n<br />\n<span style="font-size:28px\;">&quot\;How Career and Technical Education is Building an EPIC Walton County&quot\;<br />\n<br />\nEvery organization seeks to hire individuals that are highly trained\, have credentials that add value to the company\, and can make a positive impact. Join the Walton County CTE Director for an interactive discussion on how Career and Technical Education can benefit your organization.</span><br />\n&nbsp\;
LOCATION:Estelle Studio and Gallery 902 FL-20 Suite 106 Freeport\, FL 32439
UID:e.885.33241
SEQUENCE:3
DTSTAMP:20260423T111509Z
URL:https://business.waltonareachamber.com/events/details/march-2022-first-friday-breakfast-at-estelle-studio-and-gallery-33241
END:VEVENT

END:VCALENDAR
