BEGIN:VCALENDAR
VERSION:2.0
PRODID:-//ChamberMaster//Event Calendar 2.0//EN
METHOD:PUBLISH
X-PUBLISHED-TTL:P3D
REFRESH-INTERVAL:P3D
CALSCALE:GREGORIAN
BEGIN:VEVENT
DTSTART:20220309T173000Z
DTEND:20220309T190000Z
X-MICROSOFT-CDO-ALLDAYEVENT:FALSE
SUMMARY:March 2022 Power of Business Lunch at Hyatt Place Sandestin
DESCRIPTION:Register now for our March 2022 Power of Business Lunch at the beautiful Hyatt Place Sandestin at Grand Blvd. \n\n"How Career and Technical Education is Building an EPIC Walton County"\n\n\n\nEvery organization seeks to hire individuals that are highly trained\, have credentials that add value to the company\, and can make a positive impact. Join the Walton County CTE Director for an interactive discussion on how Career and Technical Education can benefit your organization.\n\n\n\nPre-registration is required.
X-ALT-DESC;FMTTYPE=text/html:<span style="color: rgb(128\, 0\, 0)\; font-family: arial\; font-size: 24px\; text-align: center\;">Register now&nbsp\;for our March&nbsp\;2022 Power of Business Lunch at the beautiful Hyatt Place Sandestin at Grand Blvd.&nbsp\;</span><br />\n<span style="color: rgb(51\, 51\, 51)\; font-family: sans-serif\, Arial\, Verdana\, &quot\;Trebuchet MS&quot\;\; font-size: 28px\; background-color: rgb(255\, 255\, 255)\;">&quot\;How Career and Technical Education is Building an EPIC Walton County&quot\;</span><br style="color: rgb(51\, 51\, 51)\; font-family: sans-serif\, Arial\, Verdana\, &quot\;Trebuchet MS&quot\;\; font-size: 28px\; background-color: rgb(255\, 255\, 255)\;" />\n<br style="color: rgb(51\, 51\, 51)\; font-family: sans-serif\, Arial\, Verdana\, &quot\;Trebuchet MS&quot\;\; font-size: 28px\; background-color: rgb(255\, 255\, 255)\;" />\n<span style="color: rgb(51\, 51\, 51)\; font-family: sans-serif\, Arial\, Verdana\, &quot\;Trebuchet MS&quot\;\; font-size: 28px\; background-color: rgb(255\, 255\, 255)\;">Every organization seeks to hire individuals that are highly trained\, have credentials that add value to the company\, and can make a positive impact. Join the Walton County CTE Director for an interactive discussion on how Career and Technical Education can benefit your organization.</span><br />\n<br />\n<span style="text-align: center\; font-family: arial\;"><strong background-color:="" font-size:="" style="color: rgb(0\, 0\, 128)\;" trebuchet=""><span style="font-size: 24px\;">Pr</span></strong></span><strong background-color:="" font-size:="" style="text-align: center\; font-family: arial\; color: rgb(0\, 0\, 128)\;" trebuchet=""><span style="font-size: 24px\;">e-registration is required.</span></strong>
LOCATION:Hyatt Place Sandestin/At Grand Boulevard Address: 325 Grand Blvd\, Destin\, FL 32550
UID:e.885.33247
SEQUENCE:3
DTSTAMP:20260423T111902Z
URL:https://business.waltonareachamber.com/events/details/march-2022-power-of-business-lunch-at-hyatt-place-sandestin-33247
END:VEVENT

END:VCALENDAR
