BEGIN:VCALENDAR
VERSION:2.0
PRODID:-//ChamberMaster//Event Calendar 2.0//EN
METHOD:PUBLISH
X-PUBLISHED-TTL:P3D
REFRESH-INTERVAL:P3D
CALSCALE:GREGORIAN
BEGIN:VEVENT
DTSTART:20230308T173000Z
DTEND:20230308T190000Z
X-MICROSOFT-CDO-ALLDAYEVENT:FALSE
SUMMARY:March 2023 Power of Networking with Nonprofits Lunch
DESCRIPTION:Come join us for a special March 2023 Power of Networking with Nonprofits Lunch! Learn about local nonprofits and what they are doing to impact your community. The lunch will be hosted at the Boys and Girls Club in Santa Rosa Beach.\n\n\n\nMENU:\n\nPasta Salad\n\nBrown Rice with Quinoa & Cous Cous\n\nSpinach Berry Salad\n\nRoasted Chicken\n\nSaut ed Shrimp\n\nRoasted Veggies\n\nRolls\n\nCookies\n\n\n\nDon't forget to bring your business cards and door prizes!
X-ALT-DESC;FMTTYPE=text/html:<span style="font-size:28px\;"><span style="color:#0000CD\;"><strong>Come join us for a special March 2023 Power of Networking with Nonprofits Lunch! Learn about local nonprofits and what they are doing to impact your community. The lunch will be hosted at the Boys and Girls Club in Santa Rosa Beach.<br />\n<br />\n<u>MENU:</u><br />\nPasta Salad<br />\nBrown Rice with Quinoa &amp\; Cous Cous<br />\nSpinach Berry Salad<br />\nRoasted Chicken<br />\nSaut&eacute\;ed Shrimp<br />\nRoasted Veggies<br />\nRolls<br />\nCookies<br />\n<br />\nDon&#39\;t forget to bring your business cards and door prizes!&nbsp\;</strong></span></span>
LOCATION:Boys and Girls Club Boys and Girls Club Way Santa Rosa Beach\, FL 32459
UID:e.885.34330
SEQUENCE:3
DTSTAMP:20260424T052148Z
URL:https://business.waltonareachamber.com/events/details/march-2023-power-of-networking-with-nonprofits-lunch-34330
END:VEVENT

END:VCALENDAR
