BEGIN:VCALENDAR
VERSION:2.0
PRODID:-//ChamberMaster//Event Calendar 2.0//EN
METHOD:PUBLISH
X-PUBLISHED-TTL:P3D
REFRESH-INTERVAL:P3D
CALSCALE:GREGORIAN
BEGIN:VEVENT
DTSTART:20210326T140000Z
DTEND:20210326T150000Z
X-MICROSOFT-CDO-ALLDAYEVENT:FALSE
SUMMARY:Marcus Pfister’s The Rainbow Fish
DESCRIPTION:THEATRE FOR YOUNG AUDIENCES: THEATRE FOR THE VERY YOUNG\n\nBook\, Music\, and Lyrics by Austin Zumbro\n\n\n\n\n\n\nSharing makes you shiny in this beautiful children's classic by Marcus Pfister.  Children will experience The Rainbow Fish through movement\, song\, color\, and hands on sensory opportunities as they become part of the story with the actors.\n\nRunning Time: 60 minutes. Ages 6 months - 5 yrs
X-ALT-DESC;FMTTYPE=text/html:<div>\n<div>\n<h3><span style="font-size:14px\;"><span style="font-family:arial\;">THEATRE FOR YOUNG AUDIENCES: THEATRE FOR THE VERY YOUNG</span></span></h3>\n\n<p><span style="font-size:14px\;"><span style="font-family:arial\;">Book\, Music\, and Lyrics by Austin Zumbro</span></span></p>\n</div>\n\n<div>\n<div>\n<div>\n<div>\n<p><span style="font-size:14px\;"><span style="font-family:arial\;">Sharing makes you shiny in this beautiful children&rsquo\;s classic by Marcus Pfister.&nbsp\; Children will experience The Rainbow Fish through movement\, song\, color\, and hands on sensory opportunities as they become part of the story with the actors.</span></span></p>\n\n<p><span style="font-size:14px\;"><span style="font-family:arial\;">Running Time: 60 minutes. Ages 6 months - 5 yrs</span></span></p>\n</div>\n</div>\n</div>\n\n<div>\n<div>\n<div>&nbsp\;</div>\n</div>\n</div>\n</div>\n</div>\n\n<div style="margin-left:auto\; margin-right:auto">&nbsp\;</div>\n
LOCATION:560 Grand Boulevard\, Suite 200 Miramar Beach\, FL 32550 The theatre is located upstairs.
UID:e.885.29369
SEQUENCE:3
DTSTAMP:20260422T110739Z
URL:https://business.waltonareachamber.com/events/details/marcus-pfister-s-the-rainbow-fish-29369
END:VEVENT

END:VCALENDAR
